BEGIN:VCALENDAR
VERSION:2.0
PRODID:-//LetterarieMenti Gruppo Editoriale - ECPv6.14.2//NONSGML v1.0//EN
CALSCALE:GREGORIAN
METHOD:PUBLISH
X-WR-CALNAME:LetterarieMenti Gruppo Editoriale
X-ORIGINAL-URL:https://lemezzelane.eu
X-WR-CALDESC:Eventi per LetterarieMenti Gruppo Editoriale
REFRESH-INTERVAL;VALUE=DURATION:PT1H
X-Robots-Tag:noindex
X-PUBLISHED-TTL:PT1H
BEGIN:VTIMEZONE
TZID:Europe/Amsterdam
BEGIN:DAYLIGHT
TZOFFSETFROM:+0100
TZOFFSETTO:+0200
TZNAME:CEST
DTSTART:20190331T010000
END:DAYLIGHT
BEGIN:STANDARD
TZOFFSETFROM:+0200
TZOFFSETTO:+0100
TZNAME:CET
DTSTART:20191027T010000
END:STANDARD
BEGIN:DAYLIGHT
TZOFFSETFROM:+0100
TZOFFSETTO:+0200
TZNAME:CEST
DTSTART:20200329T010000
END:DAYLIGHT
BEGIN:STANDARD
TZOFFSETFROM:+0200
TZOFFSETTO:+0100
TZNAME:CET
DTSTART:20201025T010000
END:STANDARD
BEGIN:DAYLIGHT
TZOFFSETFROM:+0100
TZOFFSETTO:+0200
TZNAME:CEST
DTSTART:20210328T010000
END:DAYLIGHT
BEGIN:STANDARD
TZOFFSETFROM:+0200
TZOFFSETTO:+0100
TZNAME:CET
DTSTART:20211031T010000
END:STANDARD
BEGIN:DAYLIGHT
TZOFFSETFROM:+0100
TZOFFSETTO:+0200
TZNAME:CEST
DTSTART:20220327T010000
END:DAYLIGHT
BEGIN:STANDARD
TZOFFSETFROM:+0200
TZOFFSETTO:+0100
TZNAME:CET
DTSTART:20221030T010000
END:STANDARD
END:VTIMEZONE
BEGIN:VEVENT
DTSTART;TZID=Europe/Amsterdam:20220114T183000
DTEND;TZID=Europe/Amsterdam:20220114T193000
DTSTAMP:20260421T133156
CREATED:20220104T170331Z
LAST-MODIFIED:20220104T170332Z
UID:6643-1642185000-1642188600@lemezzelane.eu
SUMMARY:Monica “Moka” Zanon in videoconferenza per parlare di poesia e aeronautica
DESCRIPTION:Essenziale\, limpida\, anti-retorica\, meditativa: è “Vuoti d’aria” la nuova silloge di Moka. Le sue poesie sono dotate di quel senso di poeticità emanato da ogni atto della vita quando lo si indaga a fondo\, fino alla radice derivante dagli impulsi dell’anima. (Claudio Ardigò) \nVuoti d’aria\, di Monica “Moka” Zanon\, Le Mezzelane Casa Editrice \n \nVenerdì 14 gennaio 2022 a partire dalle ore 18:30 la poetessa parteciperà a un Open day online per le famiglie\, le ragazze e i ragazzi dell’Istituto d’Istruzione Superiore “Einaudi-Mattei” di Latina per parlare delle sue poesie e del lavoro tecnico in aeronautica.
URL:https://lemezzelane.eu/event/monica-moka-zanon-in-videoconferenza-per-parlare-di-poesia-e-aeronautica/
CATEGORIES:eventi,presentazioni in streaming,videoconferenze
ATTACH;FMTTYPE=image/jpeg:https://lemezzelane.eu/wp-content/uploads/2021/11/copertina_vuoti_daria_ebook.jpg
END:VEVENT
BEGIN:VEVENT
DTSTART;TZID=Europe/Amsterdam:20210127T183000
DTEND;TZID=Europe/Amsterdam:20210127T193000
DTSTAMP:20260421T133156
CREATED:20210122T175055Z
LAST-MODIFIED:20210122T175055Z
UID:6125-1611772200-1611775800@lemezzelane.eu
SUMMARY:Per Renato Ghezzi si ripete\, ma in diretta streaming\, l’esperienza collegata alla Giornata della memoria grazie a “Ilaria Alpi Comitato ’Donne di Assago’”
DESCRIPTION:Mercoledì 27 gennaio 2021 alle ore 18:30\, in occasione della Giornata della memoria\, si svolgerà un momento di riflessione. Organizzato dall’associazione “Ilaria Alpi Comitato ’DonnediAssago’”\, l’evento si svolgerà in videoconferenza sulla pagina Facebook del gruppo – www.facebook.com/ilariaalpicomitatodonnediassago/. Fra gli ospiti lo scrittore Renato Ghezzi\, che leggerà un brano tratto dal suo libro “Seconda possibilità”\, pubblicato da “Le Mezzelane Casa Editrice”.
URL:https://lemezzelane.eu/event/per-renato-ghezzi-si-ripete-ma-in-diretta-streaming-lesperienza-collegata-alla-giornata-della-memoria-grazie-a-ilaria-alpi-comitato-donne-di-assago/
CATEGORIES:dirette social,eventi,presentazioni,presentazioni in streaming,reading,videoconferenze
ATTACH;FMTTYPE=image/jpeg:https://lemezzelane.eu/wp-content/uploads/2020/01/Seconda-possibilità-copertina.jpg
END:VEVENT
BEGIN:VEVENT
DTSTART;TZID=Europe/Amsterdam:20201115T180000
DTEND;TZID=Europe/Amsterdam:20201115T180000
DTSTAMP:20260421T133156
CREATED:20201114T173818Z
LAST-MODIFIED:20201202T102624Z
UID:6104-1605463200-1605463200@lemezzelane.eu
SUMMARY:I nuovi appuntamenti letterari con lo scrittore Renato Ghezzi
DESCRIPTION:L’autore di “Seconda possibilità”\, libro pubblicato con “Le Mezzelane Casa Editrice”\, sarà protagonista di alcuni eventi\, di cui due in coppia con Eufemia Griffo. \n \nDomenica 15 novembre 2020 alle ore 18:00\, insieme all’amica Eufemia Griffo: intervista online organizzata da “Una mole di libri-fiera virtuale della piccola e media editoria”. Con anticipazioni sulle novità del 2021. \n \nMartedì 17 novembre 2020 alle ore 21:30: intervista online organizzata da “Thriller storici e dintorni”. Relatore Roberto Orsi. \nGiovedì 26 novembre 2020 per tutta la giornata: Giornata autore sul gruppo Lettori de “Le Mezzelane Casa Editrice” con le domande del pubblico nei commenti. \n \nSabato 5 dicembre 2020: intervista online con Eufemia Griffo alla”Fiera del libro di Cremona” alle ore 21:00 sulla pagina Facebook della fiera. Relatrice Monica Zanon.
URL:https://lemezzelane.eu/event/i-nuovi-appuntamenti-letterari-con-lo-scrittore-renato-ghezzi/
CATEGORIES:dirette social,eventi,interviste,presentazioni,presentazioni in streaming,videoconferenze
ATTACH;FMTTYPE=image/png:https://lemezzelane.eu/wp-content/uploads/2020/10/logo_quadrato_stampa-streaming.png
END:VEVENT
BEGIN:VEVENT
DTSTART;TZID=Europe/Amsterdam:20201010T180000
DTEND;TZID=Europe/Amsterdam:20201010T190000
DTSTAMP:20260421T133156
CREATED:20200924T113149Z
LAST-MODIFIED:20200924T144311Z
UID:6053-1602352800-1602356400@lemezzelane.eu
SUMMARY:Lo scrittore Mariano Lamberti presenta il suo nuovo libro in diretta Facebook
DESCRIPTION:La libertà dell’artista\, la brutalità delle fabbriche della morte del Terzo Reich\, la paura del terrorismo a Tel Aviv. Tre storie\, tre vite distanti nel tempo e nello spazio\, destinate a confluire fino all’inevitabile ricongiungimento finale. \n \nLa narrazione de “La vita nascosta del tempo presente”\, scritto da Mariano Lamberti ed edito da “Le Mezzelane Casa Editrice”\, offre tre punti di vista\, tre modi di vivere e subire l’esistenza e tre narrazioni che si dipanano in diverse fasi del tempo. \nSabato 10 ottobre 2020 alle ore 18:00\, l’autore sarà ospite di “Antigone” in diretta sulla pagina Facebook della libreria milanese per presentare il suo libro. Dialogherà con lui la scrittrice dottoressa Silvia De Laude. \nhttps://www.facebook.com/events/647652566150226/
URL:https://lemezzelane.eu/event/lo-scrittore-mariano-lamberti-presenta-il-suo-nuovo-libro-in-diretta-facebook/
LOCATION:libreria Antigone pagina Facebook\, Milano
CATEGORIES:dirette social,eventi,presentazioni,presentazioni in streaming,videoconferenze
ATTACH;FMTTYPE=image/jpeg:https://lemezzelane.eu/wp-content/uploads/2020/09/la_vita_nascosta_ebook.jpg
END:VEVENT
BEGIN:VEVENT
DTSTART;TZID=Europe/Amsterdam:20200529T163000
DTEND;TZID=Europe/Amsterdam:20200529T183000
DTSTAMP:20260421T133156
CREATED:20200516T093158Z
LAST-MODIFIED:20200516T093158Z
UID:5799-1590769800-1590777000@lemezzelane.eu
SUMMARY:Andrea Cangiotti in diretta streaming con 60 studenti per parlare di poesia
DESCRIPTION:Andrea Cangiotti ha composto le poesie contenute negli Strappi musicali\, pubblicati da Le Mezzelane Casa Editrice nella collana Ballate\, una raccolta in cui “senza troppi preziosismi affronta vari temi\, con lo scopo di ‘educare alla felicità’\, far comprendere (…) quante possibilità si possano creare con l’impegno e l’immaginazione.” \n \nVenerdì 29 maggio 2020\, dalle ore 16:30 alle ore 18:30 la poetessa\, collegata dalla piattaforma streaming Meet\, parlerà di poetica\, cultura\, libertà e lotta alle mafie a 60 studenti di varie parti d’Italia\, in qualità di presidente dell’Associazione per la Legalità della Cultura (ALC).
URL:https://lemezzelane.eu/event/andrea-cangiotti-in-diretta-streaming-con-60-studenti-per-parlare-di-poesia/
LOCATION:piattaforma streaming Meet
CATEGORIES:presentazioni in streaming
ATTACH;FMTTYPE=image/jpeg:https://lemezzelane.eu/wp-content/uploads/2019/10/Strappi-musicali.jpg
END:VEVENT
BEGIN:VEVENT
DTSTART;TZID=Europe/Amsterdam:20200430T180000
DTEND;TZID=Europe/Amsterdam:20200430T193000
DTSTAMP:20260421T133156
CREATED:20200428T094136Z
LAST-MODIFIED:20200428T094136Z
UID:5785-1588269600-1588275000@lemezzelane.eu
SUMMARY:Valentina Nuccio e Renato Ghezzi in videoconferenza per presentare i loro libri
DESCRIPTION:La storia di Piera\, immigrata nel Nord\, inserita nella tragedia delle acciaierie di Taranto e la vicenda di Richard\, in cerca delle sue radici tedesche attraverso le vicende del nonno \nsono narrate nei libri \nTerra d’ombra bruciata\, Le Mezzelane Casa Editrice\, 2019 \n \nSeconda possibilità\, Le Mezzelane Casa Editrice\, 2019 \n \n  \nGiovedì 30 aprile 2020\, alle ore 18:00 \nValentina Nuccio \n \nRenato Ghezzi \n \nsaranno online su Google Meet ospiti dell’Istituto Tecnico Industriale e Liceo delle Scienze Applicate Hensemberger di Monza per parlare dei loro romanzi storici alle allieve e agli allievi della scuola e ai loro genitori. L’evento sarà riservato.
URL:https://lemezzelane.eu/event/valentina-nuccio-e-renato-ghezzi-in-videoconferenza-per-presentare-i-loro-libri/
LOCATION:Istituto Tecnico Industriale e Liceo delle Scienze Applicate Hensemberger\, Google Meet
CATEGORIES:videoconferenze
ATTACH;FMTTYPE=image/png:https://lemezzelane.eu/wp-content/uploads/2020/04/Aperitivo-con-lautore-30-aprile-2020-1.png
END:VEVENT
BEGIN:VEVENT
DTSTART;TZID=Europe/Amsterdam:20191129T180000
DTEND;TZID=Europe/Amsterdam:20191129T190000
DTSTAMP:20260421T133156
CREATED:20191119T135237Z
LAST-MODIFIED:20191119T135237Z
UID:5364-1575050400-1575054000@lemezzelane.eu
SUMMARY:Le poesie di Andrea Cangiotti in videoconferenza da Fano
DESCRIPTION:Dalla sinossi di Strappi musicali\, la silloge di Andrea Cangiotti pubblicata da Le Mezzelane Casa Editrice: \n \n “Senza troppi preziosismi affronta vari temi\, con lo scopo di “educare alla felicità”\, far comprendere quanto la vita possa riservare e quante possibilità si possano creare con l’impegno e l’immaginazione.” \nVenerdì 29 novembre 2019 dalle ore 18:30 alle ore 19:00 l’autrice sarà in diretta video su facebook dalla libreria Mondadori di corso Matteotti 184 a Fano (PU) per presentare\, insieme al giornalista Dante Leopardi\, la sua raccolta di poesie; è previsto un reading.
URL:https://lemezzelane.eu/event/le-poesie-di-andrea-cangiotti-in-videoconferenza-da-fano/
LOCATION:libreria Mondadori\, corso Matteotti 184\, Fano (PU)
CATEGORIES:eventi,presentazioni,reading,videoconferenze
ATTACH;FMTTYPE=image/jpeg:https://lemezzelane.eu/wp-content/uploads/2019/10/Strappi-musicali.jpg
END:VEVENT
END:VCALENDAR