BEGIN:VCALENDAR
VERSION:2.0
PRODID:-//LetterarieMenti Gruppo Editoriale - ECPv6.14.2//NONSGML v1.0//EN
CALSCALE:GREGORIAN
METHOD:PUBLISH
X-WR-CALNAME:LetterarieMenti Gruppo Editoriale
X-ORIGINAL-URL:https://lemezzelane.eu
X-WR-CALDESC:Eventi per LetterarieMenti Gruppo Editoriale
REFRESH-INTERVAL;VALUE=DURATION:PT1H
X-Robots-Tag:noindex
X-PUBLISHED-TTL:PT1H
BEGIN:VTIMEZONE
TZID:Europe/Amsterdam
BEGIN:DAYLIGHT
TZOFFSETFROM:+0100
TZOFFSETTO:+0200
TZNAME:CEST
DTSTART:20200329T010000
END:DAYLIGHT
BEGIN:STANDARD
TZOFFSETFROM:+0200
TZOFFSETTO:+0100
TZNAME:CET
DTSTART:20201025T010000
END:STANDARD
END:VTIMEZONE
BEGIN:VEVENT
DTSTART;TZID=Europe/Amsterdam:20200208T173000
DTEND;TZID=Europe/Amsterdam:20200208T183000
DTSTAMP:20260421T120334
CREATED:20200203T095213Z
LAST-MODIFIED:20200203T095213Z
UID:5644-1581183000-1581186600@lemezzelane.eu
SUMMARY:Sonia Zuin presenta la silloge Percorsi silenziosi a Magenta
DESCRIPTION:La poetessa Sonia Zuin ha scritto un diario in versi che abbraccia venticinque anni di vita. Il prima e il dopo\, la quotidianità e la consapevolezza\, il dolore e la sofferenza\, il disequilibrio e la ritrovata serenità e tanto altro l’autrice ha messo nel suo libro. Dalla vita di sempre all’esistenza altra\, dalla disperazione alla presa di coscienza della varianza di genere\, Percorsi silenziosi\, la silloge uscita nella collana Ballate de Le Mezzelane Casa Editrice\, prende per mano chi legge e lo immerge nell’instabilità per mostrargli che la speranza è profonda e la si può vivere senza paura. \nSabato 8 febbraio 2020 alle ore 17:30 l’autrice sarà presente alla libreria editrice La memoria del mondo\, galleria dei portici 5 a Magenta (Mi).
URL:https://lemezzelane.eu/event/sonia-zuin-presenta-la-silloge-percorsi-silenziosi-a-magenta/
LOCATION:libreria editrice La memoria del mondo\, galleria dei portici 5\, Magenta (Mi)
CATEGORIES:eventi,presentazioni,reading
ATTACH;FMTTYPE=image/jpeg:https://lemezzelane.eu/wp-content/uploads/2020/02/Percorsi_silenziosi_ebook.jpg
END:VEVENT
END:VCALENDAR