BEGIN:VCALENDAR
VERSION:2.0
PRODID:-//LetterarieMenti Gruppo Editoriale - ECPv6.14.2//NONSGML v1.0//EN
CALSCALE:GREGORIAN
METHOD:PUBLISH
X-WR-CALNAME:LetterarieMenti Gruppo Editoriale
X-ORIGINAL-URL:https://lemezzelane.eu
X-WR-CALDESC:Eventi per LetterarieMenti Gruppo Editoriale
REFRESH-INTERVAL;VALUE=DURATION:PT1H
X-Robots-Tag:noindex
X-PUBLISHED-TTL:PT1H
BEGIN:VTIMEZONE
TZID:Europe/Amsterdam
BEGIN:DAYLIGHT
TZOFFSETFROM:+0100
TZOFFSETTO:+0200
TZNAME:CEST
DTSTART:20190331T010000
END:DAYLIGHT
BEGIN:STANDARD
TZOFFSETFROM:+0200
TZOFFSETTO:+0100
TZNAME:CET
DTSTART:20191027T010000
END:STANDARD
END:VTIMEZONE
BEGIN:VEVENT
DTSTART;TZID=Europe/Amsterdam:20190921T170000
DTEND;TZID=Europe/Amsterdam:20190921T183000
DTSTAMP:20260425T140820
CREATED:20190905T103145Z
LAST-MODIFIED:20190905T103145Z
UID:5059-1569085200-1569090600@lemezzelane.eu
SUMMARY:Eufemia Griffo e Renato Ghezzi ospiti della rassegna Un lago di libri
DESCRIPTION:L’associazione Licenza Poetica ha dato vita a una rassegna letteraria intitolata Un lago di libri\, che partirà sabato 21 settembre 2019 a Lesa (No) con le presentazioni di Eufemia Griffo\, che ha firmato Sagome di carta. Le streghe di Triora e Renato Ghezzi\, autore di Seconda possibilità\, due romanzi storici usciti nella collana Historica de Le Mezzelane Casa Editrice. I due eventi si terranno presso la biblioteca G. Carcano\, in via Roma 14\, con inizio alle ore 17:00.
URL:https://lemezzelane.eu/event/eufemia-griffo-e-renato-ghezzi-ospiti-della-rassegna-un-lago-di-libri/
LOCATION:biblioteca G. Carcano\, via Roma 14\, Lesa (No)
CATEGORIES:eventi,presentazioni
ATTACH;FMTTYPE=image/png:https://lemezzelane.eu/wp-content/uploads/2019/09/Un-lago-di-libri-particolare.png
END:VEVENT
END:VCALENDAR