BEGIN:VCALENDAR
VERSION:2.0
PRODID:-//LetterarieMenti Gruppo Editoriale - ECPv6.14.2//NONSGML v1.0//EN
CALSCALE:GREGORIAN
METHOD:PUBLISH
X-ORIGINAL-URL:https://lemezzelane.eu
X-WR-CALDESC:Eventi per LetterarieMenti Gruppo Editoriale
REFRESH-INTERVAL;VALUE=DURATION:PT1H
X-Robots-Tag:noindex
X-PUBLISHED-TTL:PT1H
BEGIN:VTIMEZONE
TZID:Europe/Amsterdam
BEGIN:DAYLIGHT
TZOFFSETFROM:+0100
TZOFFSETTO:+0200
TZNAME:CEST
DTSTART:20190331T010000
END:DAYLIGHT
BEGIN:STANDARD
TZOFFSETFROM:+0200
TZOFFSETTO:+0100
TZNAME:CET
DTSTART:20191027T010000
END:STANDARD
END:VTIMEZONE
BEGIN:VEVENT
DTSTART;TZID=Europe/Amsterdam:20190629T170000
DTEND;TZID=Europe/Amsterdam:20190629T230000
DTSTAMP:20260423T110734
CREATED:20190617T101858Z
LAST-MODIFIED:20190617T101858Z
UID:4815-1561827600-1561849200@lemezzelane.eu
SUMMARY:Stefania Miola\, la poetessa dell’innocenza\, a Caselle torinese
DESCRIPTION:La poetica di Stefania Miola è fatta di versi liberi che vanno dritti al cuore di chi ascolta\, di chi legge. \n \n La sua silloge\, Il profumo del Bianconiglio\, pubblicato da Le Mezzelane Casa Editrice\, rivela uno stile raffinato\, una fantasia e una capacità narrativa fuori dal comune. Per ritornare bambini. Per ritornare a sorridere. \n  \nSabato 29 giugno 2019 alle ore 17:00 la poetessa sarà ospite della libreria Tempolibro Education (https://www.tempolibroeducation.com/) in via Cravero 6 a Caselle Torinese (To). L’autrice parteciperà anche alla notte bianca che si terrà della cittadina. Un gruppo di bambine e di bambini reciterà alcune poesie.
URL:https://lemezzelane.eu/event/stefania-miola-la-poetessa-dellinnocenza-a-caselle-torinese/
LOCATION:Tempolibro Education\, via Cravero 6\, Caselle Torinese (To)
CATEGORIES:eventi,presentazioni,reading,spettacoli
ATTACH;FMTTYPE=image/jpeg:https://lemezzelane.eu/wp-content/uploads/2019/06/Il-profumo-del-bianconiglio.jpg
ORGANIZER;CN="Tempolibro Education":MAILTO:info@tempolibroeducation.it
END:VEVENT
END:VCALENDAR