BEGIN:VCALENDAR
VERSION:2.0
PRODID:-//LetterarieMenti Gruppo Editoriale - ECPv6.14.2//NONSGML v1.0//EN
CALSCALE:GREGORIAN
METHOD:PUBLISH
X-ORIGINAL-URL:https://lemezzelane.eu
X-WR-CALDESC:Eventi per LetterarieMenti Gruppo Editoriale
REFRESH-INTERVAL;VALUE=DURATION:PT1H
X-Robots-Tag:noindex
X-PUBLISHED-TTL:PT1H
BEGIN:VTIMEZONE
TZID:Europe/Amsterdam
BEGIN:DAYLIGHT
TZOFFSETFROM:+0100
TZOFFSETTO:+0200
TZNAME:CEST
DTSTART:20190331T010000
END:DAYLIGHT
BEGIN:STANDARD
TZOFFSETFROM:+0200
TZOFFSETTO:+0100
TZNAME:CET
DTSTART:20191027T010000
END:STANDARD
END:VTIMEZONE
BEGIN:VEVENT
DTSTART;TZID=Europe/Amsterdam:20191114T170000
DTEND;TZID=Europe/Amsterdam:20191117T190000
DTSTAMP:20260419T152823
CREATED:20191105T160922Z
LAST-MODIFIED:20191105T160922Z
UID:5246-1573750800-1574017200@lemezzelane.eu
SUMMARY:Le penne de Le Mezzelane Casa Editrice presenti al Bookcity Milano 2019
DESCRIPTION:La rassegna itinerante dedicata ai libri e alla scrittura prenderà il via giovedì 14 novembre 2019 e fino a domenica 17 ospiterà anche autrici e autori de Le Mezzelane Casa Editrice. Ecco il calendario. \n14 Novembre \nPortineria 14 – Via Ettore Troilo 14 Milano \nore 17:00 \nGianpiero Pisso: Quando la luce squarciò le tenebre \n \nThomas Alva Edison è stato il più grande inventore di tutti i tempi\, ma\, perché la luce squarciasse davvero le tenebre\, la tecnica non bastava. Solo Arturo Malignani\, “il mago del Castello”\, fu in grado di aggiungere la necessaria dose di magia. \n  \nore 18:00 \nEufemia Griffo: Sagome di carta-Le streghe di Triora \n \nDalla voce di Bianca Maria\, sua discendente\, riemerge la storia di Angelina Clavenna\, una delle streghe di Triora perseguitate nella feroce caccia avvenuta nel 1587. Fatti realmente avvenuti o allucinazioni? Parola dopo parola Cordelia scoprirà che cosa la lega a quel lontano passato. \n  \nRenato Ghezzi: Seconda possibilità \n \nEroe sportivo o perfido traditore del proprio popolo? Chi è Rudolph\, il nonno che Richard non ha mai conosciuto? Per scoprirlo dovrà scavare in un passato sepolto da bugie\, interessi\, omissioni. Tra Stati Uniti\, Canada e Germania\, Richard ricostruirà la storia del nonno e scoprirà da dove deriva la sua dirompente passione per l’ hockey su ghiaccio. \n  \nRoberta Andres: Il sapore del vino e altri racconti \n \nUndici racconti il cui filo conduttore sono le relazioni affettive\, un filo che\, attraverso svariate ambientazioni e contingenze\, dà vita a trame in cui è facile ritrovarsi per condividere le emozioni dei protagonisti. \n  \nFranca de Angelis: Il teatro\, dalla sceneggiatura alla realizzazione \n \nFranca De Angelis è sceneggiatrice e autrice teatrale. Ha collaborato con registi come Carlo Lizzani e Giuliano Montaldo. Il cortometraggio “Senza parole”\, da lei scritto\, ha rappresentato l’Italia agli Oscar nel 1997 e ha ricevuto il David di Donatello. Per le sale è autrice fra l’altro del film “La vespa e la regina”\, con Claudia Gerini.  \n  \n15 Novembre \nAssociazione Ilaria Alpi – Via Duccio di Buoninsegna 11/b Assago (Mi) \nLa poesia è donna \nore 16:30 \nMonica Moka Zanon: Nella mia selva sgomenta la tigre \n \nAdriana Libretti: Dalla poesia al racconto \n \nBarbara de Filippis: La chioma del vento \n \nFilomena Chiaradonna: Petali di cuore \n \nQuattro autrici si raccontano e ci parlano della loro poetica\, dei racconti\, della vita\, delle donne. \nPortineria 14 – Via Ettore Troilo 14\, Milano \nIl gioco della vita \nore 16:00 \nCarla Magnani: L’ombra del vero \n \nCome in un confessionale\, il mondo si avvicenda attorno al letto di Anastazia\, che ha cercato di uccidersi per la paura del dolore. Una profonda riflessione sul male di vivere e sul potere della mente. \nFederica Amadori: Amari spicchi d’arancia \n \nIrene\, cavia umana. Irene in perenne fuga da un servizio segreto deviato che vorrebbe stravolgere il suo corpo e la sua anima. Storia o tragica realtà? \nore 17:00 \nRosaria Carfagno: L’urlo del cigno muto- Riti vudù in una casa bene di Milano \n \nSi narra che i cigni reali siano muti e che cantino in maniera melodiosa solo in punto di morte\, ma Selvaggia\, adolescente ingenua catapultata nella vita vorticosa di una facoltosa famiglia milanese nei cosiddetti “anni di piombo”\, avrà modo di scoprire la verità dietro il poetico mito. \nDaniela Mencarelli Hofmann: L’ombra di Perseo \n \nSe Laura è Medusa\, Marco è Perseo? Oppure lo è Golan? Chi\, degli uomini che\, come api impazzite\, circondano Laura\, ha impugnato il coltello che l’ha uccisa? Ciascuno di loro ha un movente\, ciascuno di loro odia le donne. \n  \n16 Novembre \nPortineria 14 – Via Ettore Troilo 14\, Milano \nIl fantasy\, l’ironia\, la vita e così sia \nore 16:00 \nSara Marino: La saga di Rebecca e Marcus \n \nFrancesca Compagno: L’Incantatore \n \n  \nIl fantasy nel genere letterario Young Adult \nore 17:00 \nDario Morandi: La terza elica \n \nUn viaggio iniziatico attraverso una nuova condizione di esistenza. Nuove potenzialità che emergono dal nostro DNA\, trasformandoci in “Aviatori dello spirito”. \nOre 17:30 \nSalvatore G. Buccellato: quando hai scelto di essere eterosessuale? \n \nTredici racconti che vi porteranno dentro la realtà di altrettante persone\, a volte colorate e un po’ folli\, altre professionali come un dentista o inopportune come un assicuratore. Persone che hanno un comune denominatore: sono gay\, e non per scelta. Perché nessuno può scegliere cosa essere. \nVanessa Sacco: Amorevoli asimmetrie \n \nBugie\, segreti e mezze verità\, perché in amor vince chi fugge\, soprattutto se lo fa prima di essere inseguito. \nOre 18:30 \nAndrea Ansevini: Oltre la porta \n \nAlessandra Piccinini: Il portone rosso \n \nOscar Sartarelli: Aspettando il raggio verde \n \nTre autori marchigiani raccontano i loro romanzi e la loro esperienza con la scrittura. \n  \n17 Novembre \nMondadori Bookstore – Cinisello Balsamo (Mi) \nore 18:00 \nTiziana Irosa: Un giorno che non sa né di me né di te \n \nElena Ungini: Ti insegnerò a volare \n \nLa collana Live & Love per parlare di amore e di altre “faccende”. \nPortineria 14 – Via Ettore Troilo 14\, Milano \nLa felicità è un porto raggiungibile solo dai pavidi \nOre 16:00 \nRita Angelelli e Antonio Lucarini: La serie di Alle cinque del mattino \n                  \nLa serie trhiller che vi terrà incollati alle pagine. Ambientata a Genova e con tre protagonisti sorprendenti.
URL:https://lemezzelane.eu/event/le-penne-de-le-mezzelane-casa-editrice-presenti-al-bookcity-milano-2019/
LOCATION:Bookcity Milano
CATEGORIES:conferenze,eventi,fiere e mostre di settore,presentazioni,reading
ATTACH;FMTTYPE=image/png:https://lemezzelane.eu/wp-content/uploads/2019/11/BCM-2019.png
END:VEVENT
BEGIN:VEVENT
DTSTART;TZID=Europe/Amsterdam:20190721T201000
DTEND;TZID=Europe/Amsterdam:20190723T225000
DTSTAMP:20260419T152823
CREATED:20190719T091044Z
LAST-MODIFIED:20190719T093519Z
UID:4971-1563739800-1563922200@lemezzelane.eu
SUMMARY:Dieci gemme di narrativa de Le Mezzelane Casa Editrice in scena a Città Sant’Angelo
DESCRIPTION:Durante le serate dal 20 al 23 luglio 2019\, nell’ambito della manifestazione Books\, Art & Wine …and more\, si svolgerà la rassegna culturale Angulum diVino\, organizzata dall’Associazione Editori Abruzzesi (https://www.editoriabruzzesi.it/). Molte le presentazioni letterarie\, che avranno luogo a Città Sant’Angelo (Pe) presso il chiostro comunale di San Francesco. \n  \nIn caso di pioggia gli eventi si terranno nell’Ex Manifattura Tabacchi. \nÈ stato istituito un servizio di bus navetta dalle ore 18:00 alle ore 02:00. \n  \nLe Mezzelane Casa Editrice sarà presente con nove autrici e un autore: \nDomenica 21 ore 20:10 – Mi permetta di offrirle un caffè di Elena Fanti \n \n  \nDomenica 21 ore 20:30 – Body Building per scrittori di Rita Angelelli \n \n  \nDomenica 21 ore 22:10 – La chioma del vento di Barbara de Filippis \n \n  \nDomenica 21 ore 22:50 – Veleno nelle gole di Gisella Orsini e Simona Barba \n \n  \nLunedì 22 ore 21:10 – Il sapore del vino e altri racconti di Roberta Andres \n \n  \nLunedì 22 ore 21:30 – Alle cinque del mattino\, la serie\, di Rita Angelelli e Antonio Lucarini \n \n  \nMartedì 23 ore 20:30 – Il vento dentro di Simona Colaiuda \n \n  \nMartedì 23 ore 22:50 – Dimmi di sì di Lorena Marcelli
URL:https://lemezzelane.eu/event/dieci-gemme-di-narrativa-de-le-mezzelane-casa-editrice-in-scena-a-citta-santangelo/
LOCATION:chiostro comunale di San Francesco e Ex Manifattura Tabacchi\, piazza IV novembre 52 e vico Lupinato 1\, Città Sant'Angelo (Pe)
CATEGORIES:eventi,mostre,presentazioni,spettacoli
END:VEVENT
END:VCALENDAR