BEGIN:VCALENDAR
VERSION:2.0
PRODID:-//LetterarieMenti Gruppo Editoriale - ECPv6.14.2//NONSGML v1.0//EN
CALSCALE:GREGORIAN
METHOD:PUBLISH
X-ORIGINAL-URL:https://lemezzelane.eu
X-WR-CALDESC:Eventi per LetterarieMenti Gruppo Editoriale
REFRESH-INTERVAL;VALUE=DURATION:PT1H
X-Robots-Tag:noindex
X-PUBLISHED-TTL:PT1H
BEGIN:VTIMEZONE
TZID:Europe/Amsterdam
BEGIN:DAYLIGHT
TZOFFSETFROM:+0100
TZOFFSETTO:+0200
TZNAME:CEST
DTSTART:20190331T010000
END:DAYLIGHT
BEGIN:STANDARD
TZOFFSETFROM:+0200
TZOFFSETTO:+0100
TZNAME:CET
DTSTART:20191027T010000
END:STANDARD
BEGIN:DAYLIGHT
TZOFFSETFROM:+0100
TZOFFSETTO:+0200
TZNAME:CEST
DTSTART:20200329T010000
END:DAYLIGHT
BEGIN:STANDARD
TZOFFSETFROM:+0200
TZOFFSETTO:+0100
TZNAME:CET
DTSTART:20201025T010000
END:STANDARD
END:VTIMEZONE
BEGIN:VEVENT
DTSTART;VALUE=DATE:20200701
DTEND;VALUE=DATE:20200702
DTSTAMP:20260423T154628
CREATED:20200516T110702Z
LAST-MODIFIED:20200516T110702Z
UID:5804-1593561600-1593647999@lemezzelane.eu
SUMMARY:Si avvicina la seconda edizione del Premio letterario nazionale "Città di Ascoli Piceno"
DESCRIPTION:C’è tempo fino al 30 giugno 2020 per spedire i propri elaborati all’indirizzo email premiocittadiap@gmail.com e partecipare alla selezione del Premio letterario nazionale “Città di Ascoli Piceno”. Il bando è pubblicato qui: \nhttps://www.concorsiletterari.net/bandi/premio-letterario-nazionale-citta-di-ascoli-piceno-2/ \nBen ventiquattro tra professioniste e professionisti faranno parte della giuria chiamata a vagliare gli elaborati spediti. Di seguito le sezioni: \nSez. A – Poesia in lingua italiana \nSez. B – Poesia in vernacolo \nSez. C – Racconto a tema libero \nSez. D – Racconto storico \nSez. E – Giallo Ascoli
URL:https://lemezzelane.eu/event/si-avvicina-la-seconda-edizione-del-premio-letterario-nazionale-citta-di-ascoli-piceno/
LOCATION:Ascoli Piceno\, Ascoli Piceno
CATEGORIES:concorsi
ATTACH;FMTTYPE=image/jpeg:https://lemezzelane.eu/wp-content/uploads/2020/05/Logo-premio.jpg
END:VEVENT
BEGIN:VEVENT
DTSTART;VALUE=DATE:20190509
DTEND;VALUE=DATE:20190514
DTSTAMP:20260423T154628
CREATED:20190507T101043Z
LAST-MODIFIED:20190507T101043Z
UID:4633-1557360000-1557791999@lemezzelane.eu
SUMMARY:Incontri/firmacopie con gli autori presso il Salottino della Regione Marche
DESCRIPTION:Dal 10 al 13 maggio le lettrici e i lettori che visiteranno il salottino della Regione Marche presso il #SalTo2019 potranno incontrare alcuni autori delle case editrici presenti\, chiacchierare con loro e farsi firmare le copie dei libri acquistati. \n \nVenerdì 10 Maggio \nFrank Paci con Maria Grazia Beltrami \nEnrico Guida sulla poesia del Leopardi \nFrancesca Mereu per parlare della Russia \nTullio Bugari sul lavoro degli anni ‘70 \nDaniela Mencarelli Hoffman per parlare di violenza di genere \nValeria Cassini per un viaggio interiore alla ricerca di Dio \nFurio Detti per la poesia \n\nSabato 11 Maggio \nStefania Miola e Francesco Spagnolo per la poesia \nRosaria Carfagno e gli anni di piombo di Milano \nLorena Marcelli\, Elena Ungini e Tiziana Irosa per parlare del genere romance \nValentina Cottini sul Cammino di Santiago \nSara Marino sulla letteratura per ragazzi \nFrabrizio Cantori per le riviste Why Marche e Crudi Style \nDalle 14:00 alle 19:00 lo spazio sarà dedicato al laboratorio per la produzione della carta \n\nDomenica 12 Maggio \nAnna Sambo e le relazioni tra uomo e donna \nGianpiero Pisso e la vera storia della lampadina \nAnna Bellini e l’ambientalismo \nMarco Mularoni e il romanzo d’avventura \nFabrizio Cantori sull’expo 2015 e 2020 \nRiccardo La Cognata e la corruzione \nCarla Magnani sul dolore e il mal di vivere \nLidia Pupilli\, Lucia Tarsi e Simona Cardinali per le storie di gatti \n\nLunedì 13 Maggio \nCarla Magnani sul dolore e il mal di vivere \nFrancesca Mereu sulla segregazione \nFederica Amadori sulle cavie umane
URL:https://lemezzelane.eu/event/incontri-firmacopie-con-gli-autori-presso-il-salottino-della-regione-marche/
CATEGORIES:conferenze,eventi,fiere e mostre di settore,firma copie
ATTACH;FMTTYPE=image/jpeg:https://lemezzelane.eu/wp-content/uploads/2019/05/58420200_2308396692776113_4599750463225593856_o.jpg
ORGANIZER;CN="Salone internazionale del libro di Torino":MAILTO:segreteria@salonelibro.it
END:VEVENT
END:VCALENDAR