BEGIN:VCALENDAR
VERSION:2.0
PRODID:-//LetterarieMenti Gruppo Editoriale - ECPv6.14.2//NONSGML v1.0//EN
CALSCALE:GREGORIAN
METHOD:PUBLISH
X-WR-CALNAME:LetterarieMenti Gruppo Editoriale
X-ORIGINAL-URL:https://lemezzelane.eu
X-WR-CALDESC:Eventi per LetterarieMenti Gruppo Editoriale
REFRESH-INTERVAL;VALUE=DURATION:PT1H
X-Robots-Tag:noindex
X-PUBLISHED-TTL:PT1H
BEGIN:VTIMEZONE
TZID:Europe/Amsterdam
BEGIN:DAYLIGHT
TZOFFSETFROM:+0100
TZOFFSETTO:+0200
TZNAME:CEST
DTSTART:20230326T010000
END:DAYLIGHT
BEGIN:STANDARD
TZOFFSETFROM:+0200
TZOFFSETTO:+0100
TZNAME:CET
DTSTART:20231029T010000
END:STANDARD
END:VTIMEZONE
BEGIN:VEVENT
DTSTART;TZID=Europe/Amsterdam:20230304T153000
DTEND;TZID=Europe/Amsterdam:20230527T173000
DTSTAMP:20260421T150759
CREATED:20230228T110710Z
LAST-MODIFIED:20230228T184940Z
UID:7396-1677943800-1685208600@lemezzelane.eu
SUMMARY:Tre incontri firmati LetterarieMenti per parlare di passato\, presente e futuro nella letteratura contemporanea
DESCRIPTION:Il passare del tempo nel romanzo di oggi fra tradizione e rinnovamento\, questa la base da cui è partita “LetterarieMenti”\, Associazione di promozione sociale\, per organizzare una rassegna di tre incontri a tema che si svolgeranno a Rho. Titolo: ”Viaggio tra le righe del tempo”. \n  \nSabato 4 marzo 2023 dalle 15:30 alle 17:30\, presso il Tourist Infopoint\, in piazza San Vittore 19 a Rho: \n”Letteratura al femminile. Donne che parlano di donne” \ncon Marzia Astorino\, Stefania Suvero e Valentina Nuccio \nModeratore Claudio Ardigò \n  \nSabato 1° aprile 2023 dalle 15:30 alle 17:30\, presso la Biblioteca Villa Burba di Rho: \n”L’altra faccia del futuro” \ncon Moka\, Sonia Vannozzi\, Maico Morellini\, Dario Tonani e Franco Brambilla (copertinista di Urania) \nModeratore Renato Ghezzi \n  \nSabato 27 maggio 2023 dalle 15:30 alle 17:30\, presso la sala convegni della Biblioteca Villa Burba di Rho: \n”Quando un romanzo è storico?” \ncon Renato Ghezzi\, Eufemia Griffo e Corrado Occhipinti Confalonieri. \nModeratrice Sara Valentino del gruppo Facebook “Septem Literary-piazzetta letteraria”
URL:https://lemezzelane.eu/event/tre-incontri-firmati-letterariementi-per-parlare-di-passato-presente-e-futuro-nella-letteratura-contemporanea/
LOCATION:Tourist Infopoint\, piazza San Vittore 19\, Rho (Mi)
CATEGORIES:eventi,presentazioni,rassegne culturali
ATTACH;FMTTYPE=image/png:https://lemezzelane.eu/wp-content/uploads/2023/02/logo_letterarie_menti_color.png
END:VEVENT
END:VCALENDAR