BEGIN:VCALENDAR
VERSION:2.0
PRODID:-//LetterarieMenti Gruppo Editoriale - ECPv6.14.2//NONSGML v1.0//EN
CALSCALE:GREGORIAN
METHOD:PUBLISH
X-WR-CALNAME:LetterarieMenti Gruppo Editoriale
X-ORIGINAL-URL:https://lemezzelane.eu
X-WR-CALDESC:Eventi per LetterarieMenti Gruppo Editoriale
REFRESH-INTERVAL;VALUE=DURATION:PT1H
X-Robots-Tag:noindex
X-PUBLISHED-TTL:PT1H
BEGIN:VTIMEZONE
TZID:Europe/Amsterdam
BEGIN:DAYLIGHT
TZOFFSETFROM:+0100
TZOFFSETTO:+0200
TZNAME:CEST
DTSTART:20190331T010000
END:DAYLIGHT
BEGIN:STANDARD
TZOFFSETFROM:+0200
TZOFFSETTO:+0100
TZNAME:CET
DTSTART:20191027T010000
END:STANDARD
BEGIN:DAYLIGHT
TZOFFSETFROM:+0100
TZOFFSETTO:+0200
TZNAME:CEST
DTSTART:20200329T010000
END:DAYLIGHT
BEGIN:STANDARD
TZOFFSETFROM:+0200
TZOFFSETTO:+0100
TZNAME:CET
DTSTART:20201025T010000
END:STANDARD
BEGIN:DAYLIGHT
TZOFFSETFROM:+0100
TZOFFSETTO:+0200
TZNAME:CEST
DTSTART:20210328T010000
END:DAYLIGHT
BEGIN:STANDARD
TZOFFSETFROM:+0200
TZOFFSETTO:+0100
TZNAME:CET
DTSTART:20211031T010000
END:STANDARD
BEGIN:DAYLIGHT
TZOFFSETFROM:+0100
TZOFFSETTO:+0200
TZNAME:CEST
DTSTART:20220327T010000
END:DAYLIGHT
BEGIN:STANDARD
TZOFFSETFROM:+0200
TZOFFSETTO:+0100
TZNAME:CET
DTSTART:20221030T010000
END:STANDARD
END:VTIMEZONE
BEGIN:VEVENT
DTSTART;TZID=Europe/Amsterdam:20221107T190000
DTEND;TZID=Europe/Amsterdam:20221107T200000
DTSTAMP:20260422T154933
CREATED:20221104T111228Z
LAST-MODIFIED:20221104T111724Z
UID:7271-1667847600-1667851200@lemezzelane.eu
SUMMARY:Che relazione c’è fra un gatto\, una scatola\, la scienza e la Fisica? Ce lo dirà la scrittrice Chiara De Giorgi\, in un'intervista su Instagram per parlare del suo nuovo libro
DESCRIPTION:Di che colore è la vernice dentro a una latta chiusa? E il gatto dentro una scatola\, è sveglio o addormentato? Seguite le avventure di Chiara\, per queste e altre risposte alle vostre domande scientifiche. (dalla sinossi) \n  \n  \n\nhttps://lemezzelane.eu/wp-content/uploads/2022/11/314407169_5744774168915362_7277971877535733598_n.mp4\n  \n  \n \nChiara e il gatto di Schrödinger\, di Chiara De Giorgi\, Le Mezzelane Casa Editrice \n  \n  \n  \nLunedì 7 novembre 2022 alle ore 19:00 la pedagogista Cristina Ferretti intervisterà l’autrice a partire dal suo libro; si parlerà anche di narrativa per l’infanzia\, pedagogia e di tanto altro ancora.
URL:https://lemezzelane.eu/event/che-relazione-ce-fra-un-gatto-una-scatola-la-scienza-e-la-fisica-ce-lo-dira-la-scrittrice-chiara-de-giorgi-in-un-intervista-su-instagram-per-parlare-del-suo-nuovo-libro/
CATEGORIES:dirette social,eventi,interviste,presentazioni
ATTACH;FMTTYPE=image/jpeg:https://lemezzelane.eu/wp-content/uploads/2022/11/copertina_chiara_e_il_gatto_stampa_pic.jpg
END:VEVENT
BEGIN:VEVENT
DTSTART;TZID=Europe/Amsterdam:20220910T163000
DTEND;TZID=Europe/Amsterdam:20220910T170000
DTSTAMP:20260422T154933
CREATED:20220909T114030Z
LAST-MODIFIED:20220909T114450Z
UID:7114-1662827400-1662829200@lemezzelane.eu
SUMMARY:Le Mezzelane Casa Editrice a Montegiorgio per “Libro vivo”\, una tre giorni dedicata ai libri per le ragazze e i ragazzi
DESCRIPTION:È iniziato giovedì 8 settembre 2022 e si concluderà domenica 11\, si svolge a Montegiorgio (Fm) si intitola “Libro vivo – mostra mercato del libro per ragazzi” ed è dedicato alla narrativa per l’infanzia e l’adolescenza. \nTutti gli eventi hanno luogo nel chiostro di Sant’Agostino (via Giuseppe Garibaldi) dalle ore 16:00 alle ore 20:00. \n  \nLe Mezzelane Casa Editrice sarà presente sabato 10 settembre alle ore 16:30 con “Quasi grandi-Novelle dai Monti Sibillini all’Adriatico” il libro per l’infanzia scritto da Marco Squarcia\, che farà una firmacopie e guiderà un laboratorio per la creazione di dialoghi a partire dal suo libro.
URL:https://lemezzelane.eu/event/le-mezzelane-casa-editrice-a-montegiorgio-per-libro-vivo-una-tre-giorni-dedicata-ai-libri-per-le-ragazze-e-i-ragazzi/
LOCATION:Libro vivo – mostra mercato del libro per ragazzi – chiostro di Sant’Agostino\, via Garibaldi\, Montegiorgio (Fm)
CATEGORIES:eventi,fiere e mostre di settore,firmacopie,lezioni,presentazioni,reading,workshop
ATTACH;FMTTYPE=image/jpeg:https://lemezzelane.eu/wp-content/uploads/2022/09/Libro-vivo.jpg
END:VEVENT
BEGIN:VEVENT
DTSTART;TZID=Europe/Amsterdam:20220903T100000
DTEND;TZID=Europe/Amsterdam:20221004T200000
DTSTAMP:20260422T154933
CREATED:20220823T154249Z
LAST-MODIFIED:20220823T160627Z
UID:7070-1662199200-1664913600@lemezzelane.eu
SUMMARY:A Castelfidardo il salottino di Inchiostro marchigiano ospita due autori de Le Mezzelane Casa Editrice
DESCRIPTION:Sabato 3 e domenica 4 settembre 2022\, dalle ore 10:00 alle ore 20:00 a Castelfidardo (An)\, in piazza della Repubblica e in via Mazzini\, ci sarà il salottino di “Inchiostro marchigiano”\, il festival dedicato alle scrittrici e agli scrittori delle Marche. \nLe Mezzelane Casa Editrice sarà rappresentata da Andrea Ansevini. \nMichele Rovito ci racconta le sue nuove avventure e le emozioni che la vita gli ha riservato\, ma… è tutto reale oppure ancora una volta sta fantasticando? (dalla sinossi)  \n \nDietro la porta\, di Andrea Ansevini\, Le Mezzelane Casa Editrice  \n  \n  \n  \n  \n  \n  \n  \n  \n  \nSquiro è un giovane scoiattolo che vive nella foresta di Boscorosso. Superbo e convinto delle proprie capacità\, si rivolge alla civetta Erva pretendendo di ottenere il rosso amuleto fatato dei maghi. La saggia civetta gli dice che potrà conquistare i segreti della magia a una condizione: riuscire ad arrivare alla vecchia quercia prima del tramonto. (dalla sinossi) \n \nSquiro e la magia\, di Marco Ghergo\, Le Mezzelane Casa Editrice
URL:https://lemezzelane.eu/event/a-castelfidardo-il-salottino-di-inchiostro-marchigiano-ospita-due-autori-de-le-mezzelane-casa-editrice/
LOCATION:Inchiostro marchigiano\, piazza della Repubblica e via Mazzini\, Castelfidardo (An)
CATEGORIES:eventi,fiere e mostre di settore,presentazioni
ATTACH;FMTTYPE=image/jpeg:https://lemezzelane.eu/wp-content/uploads/2022/08/Inchiostro-marchigiano.jpg
END:VEVENT
BEGIN:VEVENT
DTSTART;VALUE=DATE:20220220
DTEND;VALUE=DATE:20220221
DTSTAMP:20260422T154933
CREATED:20220219T153629Z
LAST-MODIFIED:20220226T115222Z
UID:6734-1645315200-1645401599@lemezzelane.eu
SUMMARY:Sei libri pubblicati da Le Mezzelane Casa Editrice saranno tradotti per il mercato estero
DESCRIPTION:Le Mezzelane Casa Editrice ha partecipato al bando di “Traduzioni 2020 per la traduzione e diffusione del libro italiano e della lettura all’estero degli autori italiani” e si è aggiudicata ben cinque traduzioni di altrettanti libri\, dopo aver passato il giudizio della Ediser\, la società di servizi dell’Associazione Italiana Editori per l’erogazione di servizi rivolti alle case editrici. I libri selezionati saranno tradotti in lingua turca.\n \nUn sentito ringraziamento a Ünver Alibei\, Maria Grazia Beltrami e Chiara De Giorgi. \nFai click sulle immagini per andare alle schede dei libri \nIl passato è dispari di Eros Bellistracci\n  \nMi chiamo Elisa di Chiara De Giorgi\n  \nMia\, fata dei boschi di Elena Ungini\n  \nQuando mi chiameranno uomo? di Francesca Mereu\nIl mio demone\, di Sara Marino\nUgo e i gioielli scomparsi\, di Rita Angelelli
URL:https://lemezzelane.eu/event/sei-libri-pubblicati-da-le-mezzelane-casa-editrice-saranno-tradotti-per-il-mercato-estero/
CATEGORIES:concorsi
END:VEVENT
BEGIN:VEVENT
DTSTART;TZID=Europe/Amsterdam:20200108T180000
DTEND;TZID=Europe/Amsterdam:20200108T190000
DTSTAMP:20260422T154933
CREATED:20200107T092257Z
LAST-MODIFIED:20200107T092257Z
UID:5509-1578506400-1578510000@lemezzelane.eu
SUMMARY:Vivì Coppola presenta il suo nuovo romanzo a Genova
DESCRIPTION:Inizio d’anno col botto quello di Vivì Coppola. L’autrice sarà ospite de la Feltrinelli di Genova con il suo libro Il verso del leopardo\, uscito per Le Mezzelane Casa Editrice nella collana Black Moon Street\, dedicata all’infanzia dai 10 ai 14 anni. Genovese d’adozione\, Coppola ha pubblicato testi sia in prosa che di poesia\, anche se si è specializzata in storie fantasy e narrativa per ragazze e ragazzi. Il verso del leopardo è la sua ultima pubblicazione. \n  \nMwana Wa Chui\, il figlio del leopardo: un nome importante per un cucciolo di gorilla a cui i bracconieri hanno ucciso la madre. Salvato da un leopardo e cresciuto tra gli uomini\, con le sue straordinarie doti Mwana è destinato a portare la pace nella grande foresta. \n  \nMercoledì 8 gennaio 2020 alle ore 18:00 la scrittrice presenterà il suo libro alla Feltrinelli di Genova\, in via Ceccardi 18r. Presenterà Federica Amadori.
URL:https://lemezzelane.eu/event/vivi-coppola-presenta-il-suo-nuovo-romanzo-a-genova/
LOCATION:la Feltrinelli\, via Ceccardi 18r
CATEGORIES:eventi,presentazioni
ATTACH;FMTTYPE=image/jpeg:https://lemezzelane.eu/wp-content/uploads/2020/01/il_verso_del_leopardo.jpg
END:VEVENT
BEGIN:VEVENT
DTSTART;VALUE=DATE:20190126
DTEND;VALUE=DATE:20190512
DTSTAMP:20260422T154933
CREATED:20190127T110408Z
LAST-MODIFIED:20190306T092526Z
UID:4220-1548460800-1557619199@lemezzelane.eu
SUMMARY:Se fosse un fiore\, rassegna di presentazioni di libri\, fiori\, merende e aperitivi
DESCRIPTION:Se fosse un fiore è la fioreria di Consuelo Santoro\, che\, ad Abbiategrasso\, offre gli spazi del suo concept store a chi voglia creare degli eventi culturali. Fra questi la rassegna di presentazioni Aperitivo con l’autore\, organizzata dallo scrittore Renato Ghezzi\, che ha pubblicato il libro Seconda possibilità con Le Mezzelane Casa Editrice. Ci sarà spazio anche per la narrativa per l’infanzia\, nella quale sarù presente anche la scrittrice Marzia Astorino. \nEcco l’elenco completo delle presentazioni. \nFiori\, Autori e Aperitivi\nTutti gli incontri inizieranno alle 18:45 \nGiovedì 26 gennaio\, La Giornata della Memoria \nSeconda possibilità di Renato Ghezzi \n  \nVenerdì 15 febbraio\, Eros e la Tigre \nNella mia selva sgomenta la tigre di Moka \n  \nGiovedì 7 marzo\, La Giornata della Donna \nSagome di carta. Le streghe di Triora di Eufemia Griffo \n  \nGiovedì 21 marzo\, La vittoria della Luce \nQuando la luce squarciò le tenebre di Gianpiero Pisso \n  \nVenerdì 12 aprile\, Vite di qua\, vite di là \nParole presenti di Adriana Libretti \nQuando hai scelto di essere eterosessuale? di Salvatore G. Buccellato \n  \nVenerdì 10 maggio\, Consumismo indotto & Obsolescenza programmata \nLa terza elica di Dario Morandi \nStorie a merenda\nGli incontri si terranno alle ore 16:00 \nSabato 23 febbraio dai cinque ai dieci anni \nIl regno di NonSoDove di Gianpiero Pisso \nSabato 16 marzo\, dai cinque ai dieci anni \nL’albero Pino di Marzia Astorino \nSabato 16 marzo\, dai dieci ai quattordici anni \nAl di là della collina di Rachele Coerezza \nSabato 6 aprile\, dai dieci ai quattordici anni \nMia\, fata dei boschi di Elena Ungini
URL:https://lemezzelane.eu/event/se-fosse-un-fiore-rassegna-di-presentazioni-di-libri-fiori-merende-e-aperitivi/
LOCATION:Se fosse un fiore\, corso Italia 63\, Abbiategrasso
CATEGORIES:eventi,presentazioni,reading
ATTACH;FMTTYPE=image/png:https://lemezzelane.eu/wp-content/uploads/2019/01/aa.png
END:VEVENT
END:VCALENDAR