BEGIN:VCALENDAR
VERSION:2.0
PRODID:-//LetterarieMenti Gruppo Editoriale - ECPv6.14.2//NONSGML v1.0//EN
CALSCALE:GREGORIAN
METHOD:PUBLISH
X-WR-CALNAME:LetterarieMenti Gruppo Editoriale
X-ORIGINAL-URL:https://lemezzelane.eu
X-WR-CALDESC:Eventi per LetterarieMenti Gruppo Editoriale
REFRESH-INTERVAL;VALUE=DURATION:PT1H
X-Robots-Tag:noindex
X-PUBLISHED-TTL:PT1H
BEGIN:VTIMEZONE
TZID:Europe/Amsterdam
BEGIN:DAYLIGHT
TZOFFSETFROM:+0100
TZOFFSETTO:+0200
TZNAME:CEST
DTSTART:20210328T010000
END:DAYLIGHT
BEGIN:STANDARD
TZOFFSETFROM:+0200
TZOFFSETTO:+0100
TZNAME:CET
DTSTART:20211031T010000
END:STANDARD
END:VTIMEZONE
BEGIN:VEVENT
DTSTART;TZID=Europe/Amsterdam:20210121T190000
DTEND;TZID=Europe/Amsterdam:20210429T190000
DTSTAMP:20260425T140519
CREATED:20210118T090948Z
LAST-MODIFIED:20210121T095704Z
UID:6115-1611255600-1619722800@lemezzelane.eu
SUMMARY:Giovedì 21 gennaio 2021 avrà inizio il "Festival del Libro Emergente" di Mesagne (Br)
DESCRIPTION:Dal 21 gennaio al 29 aprile 2021 si svolgerà la prima edizione del “Festival del Libro Emergente” di Mesagne (Br)\, Ospiti quattordici fra autrici e autori che presenteranno i loro libri. Gli incontri si svolgeranno in diretta streaming alle 19:00 sulla pagina Facebook di “Qui Mesagne”. \n  \nIl calendario \n21/01 Presentazione del Festival\, ospiti Rita Angelelli\, editrice\, e Giuseppe Civati\, editore\, che descriveranno le loro case editrici; si parlerà di cosa significhi oggi fare l’editore. Interviene il Sindaco della Città di Mesagne\, Antonio Matarrelli \n28/01 “Il mare nero dell’indifferenza”\, di Liliana Segre\, a cura di Giuseppe Civati. Ospite in diretta Giuseppe Civati che dialoga con i capi Scout Mesagne 2. Interviene l’Assessore alle Politiche Sociali della Città di Mesagne Annamaria Scalera \n04/02 “Mi chiamo Elisa”\, di Chiara De Giorgi. Ospite in diretta Chiara De Giorgi che dialoga con Martina Castrignanò \n11/02 “Reset”\, di Andrea Marlano. Ospite in diretta Andrea Marlano \n18/02 “Le Incredibili Avventure del Cavalier Cotoletta” Vol. II. Ospiti in diretta Paolo Mascherpa e Cecilia Di Giulio\, illustratrice\, che dialogano con gli alunni e le alunne della 4ª c della Scuola Primaria Borsellino \n25/02 Zizziq\, di Alberto Cola. Ospite in diretta Alberto Cola\, che dialoga con i bambini della 1ª c della Scuola Primaria Borsellino \n04/03 “La stessa lotta la stessa ragione”\, di Riccardo Noury. Ospite in diretta Riccardo Noury \n11/03 “I 17 Mondi – Il Capitano”\, di A. R. Alexander\, ospite in diretta A. R. Alexander \n18/03 “I racconti di Spaventino”\, di Roberta Martinetti. Ospite in diretta Roberta Martinetti che dialoga con gli alunni e le alunne della 4ª a e 4ª b della Scuola Primaria Borsellino \n25/03 “La grotta dell’origine”\, di Leo Todisco. Ospite in diretta Leo Todisco \n08/04 “Mi permetta di offrirle un caffè”\, di Elena Fanti. Ospite in diretta Elena Fanti \n15/04 “L’unguento delle Streghe”\, di Giuseppe Marchionna. Ospite in diretta Giuseppe Marchionna \n22/04 “Anch’io posso volare”\, di Rita Angelelli. Ospite in studio Rita Angelelli che dialoga con i ragazzi della 5ª c della Scuola Primaria Carducci \n29/04 “Una meravigliosa posizione”\, di Giuseppe Civati; a seguire “Anch’io posso volare”\, di Rita Angelelli
URL:https://lemezzelane.eu/event/giovedi-21-gennaio-2021-avra-inizio-il-festival-del-libro-emergente-di-mesagne-br/
CATEGORIES:conferenze,dirette social,eventi,presentazioni,presentazioni in streaming,videoconferenze
END:VEVENT
END:VCALENDAR