BEGIN:VCALENDAR
VERSION:2.0
PRODID:-//LetterarieMenti Gruppo Editoriale - ECPv6.14.2//NONSGML v1.0//EN
CALSCALE:GREGORIAN
METHOD:PUBLISH
X-WR-CALNAME:LetterarieMenti Gruppo Editoriale
X-ORIGINAL-URL:https://lemezzelane.eu
X-WR-CALDESC:Eventi per LetterarieMenti Gruppo Editoriale
REFRESH-INTERVAL;VALUE=DURATION:PT1H
X-Robots-Tag:noindex
X-PUBLISHED-TTL:PT1H
BEGIN:VTIMEZONE
TZID:Europe/Amsterdam
BEGIN:DAYLIGHT
TZOFFSETFROM:+0100
TZOFFSETTO:+0200
TZNAME:CEST
DTSTART:20220327T010000
END:DAYLIGHT
BEGIN:STANDARD
TZOFFSETFROM:+0200
TZOFFSETTO:+0100
TZNAME:CET
DTSTART:20221030T010000
END:STANDARD
BEGIN:DAYLIGHT
TZOFFSETFROM:+0100
TZOFFSETTO:+0200
TZNAME:CEST
DTSTART:20230326T010000
END:DAYLIGHT
BEGIN:STANDARD
TZOFFSETFROM:+0200
TZOFFSETTO:+0100
TZNAME:CET
DTSTART:20231029T010000
END:STANDARD
END:VTIMEZONE
BEGIN:VEVENT
DTSTART;TZID=Europe/Amsterdam:20230319T103000
DTEND;TZID=Europe/Amsterdam:20230319T200000
DTSTAMP:20260422T154415
CREATED:20230313T113711Z
LAST-MODIFIED:20230313T113711Z
UID:7443-1679221800-1679256000@lemezzelane.eu
SUMMARY:Lo scrittore Maurizio Selvatico e le sue firmacopie vincenti: stavolta sarà in Mondadori a Roma
DESCRIPTION:Anno 1220. Marco Tiepolo\, giovane veneziano\, si trova suo malgrado coinvolto nella missione segreta dei Cavalieri teutonici\, incaricati di recuperare la Santa Croce in Oriente. Questo lo porterà a intraprendere un viaggio ai confini del mondo per cercare una risposta alle sue inquietudini. (dalla sinossi) \n  \n \nLa spada e la croce\, di Maurizio Selvatico\, Le Mezzelane Casa Editrice \n  \n  \n  \n  \nDomenica 19 marzo 2023 a partire dalle 10:30 l’autore sarà presente con il suo tavolo promozionale alla libreria Mondadori di piazza Cola di Rienzo 81 a Roma.
URL:https://lemezzelane.eu/event/lo-scrittore-maurizio-selvatico-e-le-sue-firmacopie-vincenti-stavolta-sara-in-mondadori-a-roma/
LOCATION:Libreria Mondadori Roma\, via Cola di Rienzo 81\, Roma
CATEGORIES:eventi,firmacopie
ATTACH;FMTTYPE=image/jpeg:https://lemezzelane.eu/wp-content/uploads/2022/05/copertina_la_spada_e_la_croce_pic.jpg
END:VEVENT
BEGIN:VEVENT
DTSTART;TZID=Europe/Amsterdam:20220909T100000
DTEND;TZID=Europe/Amsterdam:20221022T200000
DTSTAMP:20260422T154415
CREATED:20220904T165957Z
LAST-MODIFIED:20220904T165957Z
UID:7102-1662717600-1666468800@lemezzelane.eu
SUMMARY:Lo scrittore Maurizio Selvatico torna con cinque firma copie a Roma
DESCRIPTION:Anno 1220. Marco Tiepolo\, giovane veneziano\, si trova suo malgrado coinvolto nella missione segreta dei Cavalieri teutonici\, incaricati di recuperare la Santa Croce in Oriente. Questo lo porterà a intraprendere un viaggio ai confini del mondo per cercare una risposta alle sue inquietudini. (dalla sinossi) \n \nLa spada e la croce\, di Maurizio Selvatico\, Le Mezzelane Casa Editrice \n  \n  \n  \nLe date di settembre 2022 \n9 e 10 libreria Feltrinelli di viale Marconi \n17 e 18 libreria Feltrinelli\, centro commerciale Maximo di via Laurentina \n23 e 24 libreria Feltrinelli di viale Libia \nLe date di ottobre 2022 \n1° e 2 libreria Feltrinelli di largo di Torre Argentina \n21 e 22 libreria Feltrinelli\, centro commerciale Cinecittà di via Tuscolana \nLe firma copie si svolgeranno durante gli orari di apertura delle librerie
URL:https://lemezzelane.eu/event/lo-scrittore-maurizio-selvatico-torna-con-cinque-firma-copie-a-roma/
CATEGORIES:eventi,firmacopie
ATTACH;FMTTYPE=image/jpeg:https://lemezzelane.eu/wp-content/uploads/2022/05/copertina_la_spada_e_la_croce_pic.jpg
END:VEVENT
BEGIN:VEVENT
DTSTART;TZID=Europe/Amsterdam:20220707T150000
DTEND;TZID=Europe/Amsterdam:20220707T160000
DTSTAMP:20260422T154415
CREATED:20220704T163748Z
LAST-MODIFIED:20220704T163748Z
UID:6995-1657206000-1657209600@lemezzelane.eu
SUMMARY:Maurizio Selvatico e Maurizio Calì parlano della storia medievale e del romanzo storico
DESCRIPTION:Anno 1220. Marco Tiepolo\, giovane veneziano\, si trova suo malgrado coinvolto nella missione segreta dei Cavalieri teutonici\, incaricati di recuperare la Santa Croce in Oriente. Questo lo porterà a intraprendere un viaggio ai confini del mondo per cercare una risposta alle sue inquietudini. (dalla sinossi) \nLa spada e la croce\, di Maurizio Selvatico\, Le Mezzelane Casa Editrice \n  \n \n  \nGiovedì 7 luglio 2022 lo scrittore Maurizio Selvatico converserà con Maurizio Calì\, presidente dell’associazione “Italia medievale”. In quell’occasione parlerà del suo ultimo romanzo storico\, “La spada e la croce”\, già Sold Out all’ultimo Salone del libro di Torino. Il video dell’incontro potrà essere guardato su Youtube di lì a poco.
URL:https://lemezzelane.eu/event/maurizio-selvatico-e-maurizio-cali-parlano-della-storia-medievale-e-del-romanzo-storico/
CATEGORIES:dirette social,eventi,interviste
ATTACH;FMTTYPE=image/jpeg:https://lemezzelane.eu/wp-content/uploads/2022/05/copertina_la_spada_e_la_croce_pic.jpg
END:VEVENT
BEGIN:VEVENT
DTSTART;TZID=Europe/Amsterdam:20220624T180000
DTEND;TZID=Europe/Amsterdam:20220624T190000
DTSTAMP:20260422T154415
CREATED:20220601T095610Z
LAST-MODIFIED:20220601T095610Z
UID:6955-1656093600-1656097200@lemezzelane.eu
SUMMARY:La chiesa di Santa Croce in Gerusalemme ospiterà lo scrittore Maurizio Selvatico per una presentazione
DESCRIPTION:Anno 1220. Marco Tiepolo\, giovane veneziano\, si trova suo malgrado coinvolto nella missione segreta dei Cavalieri teutonici\, incaricati di recuperare la Santa Croce in Oriente. Questo lo porterà a intraprendere un viaggio ai confini del mondo per cercare una risposta alle sue inquietudini. (dalla sinossi) \nLa spada e la croce\, di Maurizio Selvatico\, Le Mezzelane Casa Editrice \n  \nVenerdì 24 giugno 2022 alle ore 18:00\, nella suggestiva sala dell’antico refettorio della chiesa di Santa Croce in Gerusalemme a Roma (Metro Manzoni)\, l’autore presenterà il suo nuovo libro. L’evento sarà l’occasione per approfondire un periodo della storia medievale tanto avvincente quanto violento. \nPresto una lista di partecipanti.
URL:https://lemezzelane.eu/event/la-chiesa-di-santa-croce-in-gerusalemme-ospitera-lo-scrittore-maurizio-selvatico-per-una-presentazione/
LOCATION:chiesa di Santa Croce in Gerusalemme\, piazza Santa Croce in Gerusalemme-Metro Marconi\, Roma
CATEGORIES:eventi,presentazioni
ATTACH;FMTTYPE=image/jpeg:https://lemezzelane.eu/wp-content/uploads/2022/05/copertina_la_spada_e_la_croce_pic.jpg
END:VEVENT
BEGIN:VEVENT
DTSTART;TZID=Europe/Amsterdam:20220610T090000
DTEND;TZID=Europe/Amsterdam:20220610T200000
DTSTAMP:20260422T154415
CREATED:20220601T092449Z
LAST-MODIFIED:20220601T095705Z
UID:6950-1654851600-1654891200@lemezzelane.eu
SUMMARY:Un’altra firmacopie per lo scrittore Maurizio Selvatico
DESCRIPTION:Anno 1220. Marco Tiepolo\, giovane veneziano\, si trova suo malgrado coinvolto nella missione segreta dei Cavalieri teutonici\, incaricati di recuperare la Santa Croce in Oriente. Questo lo porterà a intraprendere un viaggio ai confini del mondo per cercare una risposta alle sue inquietudini. (dalla sinossi) \nLa spada e la croce\, di Maurizio Selvatico\, Le Mezzelane Casa Editrice \n  \nVenerdì 10 giugno 2022 l’autore sarà presente con il suo banchetto promozionale alla libreria “Tiburtina Incipit” di via Giuseppe Marcotti 51 a Roma durante i consueti orari di apertura. \n 
URL:https://lemezzelane.eu/event/unaltra-firmacopie-per-lo-scrittore-maurizio-selvatico/
LOCATION:libreria “Tiburtina Incipit”\, via Giuseppe Marcotti 51\, Roma
CATEGORIES:eventi,firma copie
ATTACH;FMTTYPE=image/jpeg:https://lemezzelane.eu/wp-content/uploads/2022/05/copertina_la_spada_e_la_croce_pic.jpg
END:VEVENT
BEGIN:VEVENT
DTSTART;TZID=Europe/Amsterdam:20220528T090000
DTEND;TZID=Europe/Amsterdam:20220918T200000
DTSTAMP:20260422T154415
CREATED:20220519T095030Z
LAST-MODIFIED:20220519T111005Z
UID:6928-1653728400-1663531200@lemezzelane.eu
SUMMARY:Lo scrittore Maurizio Selvatico ospite del Writer’s corner di La Feltrinelli per sei firmacopie
DESCRIPTION:Anno 1220. Marco Tiepolo\, giovane veneziano\, si trova suo malgrado coinvolto nella missione segreta dei Cavalieri teutonici\, incaricati di recuperare la Santa Croce in Oriente. Questo lo porterà a intraprendere un viaggio ai confini del mondo per cercare una risposta alle sue inquietudini. (dalla sinossi) \n  \nLa spada e la croce\, di Maurizio Selvatico\, Le Mezzelane Casa Editrice \n \n  \nSei le date\, dalla fine di maggio a metà settembre\, in cui l’autore sarà impegnato in altrettante firmacopie che rientrano nel programma “Writer’s Corner”\, la vetrina che la Feltrinelli ha lanciato per porre in risalto i libri dei nuovi autori. \nSabato 28 e domenica 29 maggio: centro commerciale Porta di Roma\, via Alberto Lionello 201 \nSabato 18 e domenica 19 giugno: centro commerciale Euroma2\, via Dell’oceano pacifico 83 \nSabato 17 e domenica 18 settembre: centro commerciale Maximo\, via Laurentina 865 \nGli eventi si svolgeranno nei consueti orari di apertura e di chiusura delle librerie\, dalle 9:00 alle 20:00 circa\, tranne la domenica\, dalle 12 fino alla chiusura.
URL:https://lemezzelane.eu/event/lo-scrittore-maurizio-selvatico-ospite-del-writers-corner-di-la-feltrinelli-per-sei-firmacopie/
CATEGORIES:firma copie
ATTACH;FMTTYPE=image/jpeg:https://lemezzelane.eu/wp-content/uploads/2022/05/copertina_la_spada_e_la_croce_pic.jpg
END:VEVENT
END:VCALENDAR