BEGIN:VCALENDAR
VERSION:2.0
PRODID:-//LetterarieMenti Gruppo Editoriale - ECPv6.14.2//NONSGML v1.0//EN
CALSCALE:GREGORIAN
METHOD:PUBLISH
X-WR-CALNAME:LetterarieMenti Gruppo Editoriale
X-ORIGINAL-URL:https://lemezzelane.eu
X-WR-CALDESC:Eventi per LetterarieMenti Gruppo Editoriale
REFRESH-INTERVAL;VALUE=DURATION:PT1H
X-Robots-Tag:noindex
X-PUBLISHED-TTL:PT1H
BEGIN:VTIMEZONE
TZID:Europe/Amsterdam
BEGIN:DAYLIGHT
TZOFFSETFROM:+0100
TZOFFSETTO:+0200
TZNAME:CEST
DTSTART:20180325T010000
END:DAYLIGHT
BEGIN:STANDARD
TZOFFSETFROM:+0200
TZOFFSETTO:+0100
TZNAME:CET
DTSTART:20181028T010000
END:STANDARD
BEGIN:DAYLIGHT
TZOFFSETFROM:+0100
TZOFFSETTO:+0200
TZNAME:CEST
DTSTART:20190331T010000
END:DAYLIGHT
BEGIN:STANDARD
TZOFFSETFROM:+0200
TZOFFSETTO:+0100
TZNAME:CET
DTSTART:20191027T010000
END:STANDARD
BEGIN:DAYLIGHT
TZOFFSETFROM:+0100
TZOFFSETTO:+0200
TZNAME:CEST
DTSTART:20200329T010000
END:DAYLIGHT
BEGIN:STANDARD
TZOFFSETFROM:+0200
TZOFFSETTO:+0100
TZNAME:CET
DTSTART:20201025T010000
END:STANDARD
BEGIN:DAYLIGHT
TZOFFSETFROM:+0100
TZOFFSETTO:+0200
TZNAME:CEST
DTSTART:20210328T010000
END:DAYLIGHT
BEGIN:STANDARD
TZOFFSETFROM:+0200
TZOFFSETTO:+0100
TZNAME:CET
DTSTART:20211031T010000
END:STANDARD
END:VTIMEZONE
BEGIN:VEVENT
DTSTART;TZID=Europe/Amsterdam:20210917T170000
DTEND;TZID=Europe/Amsterdam:20210919T210000
DTSTAMP:20260421T101514
CREATED:20210913T101418Z
LAST-MODIFIED:20210913T105407Z
UID:6395-1631898000-1632085200@lemezzelane.eu
SUMMARY:Alla Rocca dei Borgia di Nepi a “Una corte di libri” Le Mezzelane Casa Editrice è presente con due presentazioni
DESCRIPTION:Sempre più numerose le fiere della piccola e media editoria\, di cui fa parte anche Le Mezzelane Casa Editrice\, che alla manifestazione “Una corte di libri” di Nepi (Vt) porta cinque fra autrici e autori. \nVenerdì 17 settembre 2021 alle ore 19:30 Ilaria Coppini\, Mapi e Abner Tomas Viera Quezada con “Eros&Eros” \n \n \n \n  \nDomenica 19 settembre 2021 alle ore 17:30 Laura Bassutti e Loriana Lucciarini con “Un lungo ritorno”
URL:https://lemezzelane.eu/event/alla-rocca-dei-borgia-di-nepi-a-una-corte-di-libri-le-mezzelane-casa-editrice-e-presente-con-due-presentazioni/
LOCATION:Rocca dei Borgia\, Nepi (Vt)
CATEGORIES:eventi,fiere e mostre di settore,presentazioni
ATTACH;FMTTYPE=image/jpeg:https://lemezzelane.eu/wp-content/uploads/2021/09/Nepi-locandina.jpg
END:VEVENT
BEGIN:VEVENT
DTSTART;TZID=Europe/Amsterdam:20190921T180000
DTEND;TZID=Europe/Amsterdam:20190921T193000
DTSTAMP:20260421T101514
CREATED:20190916T091022Z
LAST-MODIFIED:20190916T091022Z
UID:5079-1569088800-1569094200@lemezzelane.eu
SUMMARY:I versi liberi di Mapi a favore dell’infanzia nello spettro autistico
DESCRIPTION:Sassi rosa\, de Le Mezzelane Casa Editrice\, è una delle raccolte poetiche di Mapi\, una poetessa che sa accostare i sentimenti e le contraddizioni della vita all’energia erotica con grande forza d’animo. Passione e perdita\, trasporto amoroso ed emozione\, questi gli elementi che fanno grande la poetica dell’autrice. \nIl 21 settembre 2019 alle ore 18:00\, a Roma\, Mapi tornerà a la Feltrinelli di viale Libia per presentare la sua silloge; a introdurla sarà Rita Angelelli\, direttrice editoriale de Le Mezzelane Casa Editrice. Presenterà la critica letteraria Cinzia Baldazzi e il chitarrista Daniele Savelli accompagnerà le letture con i suoni della sua chitarra. \nI diritti d’autore andranno alla sezione laziale dell’Associazione Nazionale Genitori di Soggetti Autistici (ANGSA). La sua presidente\, Stefania Stellino\, farà un breve intervento.
URL:https://lemezzelane.eu/event/i-versi-liberi-di-mapi-a-favore-dellinfanzia-nello-spettro-autistico/
LOCATION:La Feltrinelli\, viale Libia 186\, Roma
CATEGORIES:eventi,presentazioni,reading,spettacoli
ATTACH;FMTTYPE=image/jpeg:https://lemezzelane.eu/wp-content/uploads/2019/09/copertina_ebook-1.jpg
END:VEVENT
BEGIN:VEVENT
DTSTART;TZID=Europe/Amsterdam:20190110T180000
DTEND;TZID=Europe/Amsterdam:20190110T193000
DTSTAMP:20260421T101514
CREATED:20181219T114008Z
LAST-MODIFIED:20181219T115910Z
UID:4086-1547143200-1547148600@lemezzelane.eu
SUMMARY:Il 2019 de Le Mezzelane si apre con un omaggio alla poetica di Maria Racioppi
DESCRIPTION:Andriese\, novantunenne\, Racioppi è poetessa\, scrittrice e critica letteraria. La sua è una poetica piena di calore e di colori\, di mare e di sole\, di macchia mediterranea e di paesaggi autunnali. Una decina le sue sillogi. \nGiovedì 10 gennaio 2019 alle ore 18:00\, presso l’Associazione Pugliese di Roma\, le sarà dedicato un evento a cui prenderanno parte le poetesse e i poeti Mapi con Le scale del tempo e Il vento della vita\, Lucia Izzo con In punta di versi\, Michela Zanarella e Fabio Strinati con L’esigenza del silenzio\, Rita Angelelli con Un’altra vita e Vinicio Salvatore di Crescenzo con Assoli. \n  \n \n \n \n \n  \n \n  \n  \n  \n  \n  \nL’incasso dei libri di Mapi e Rita Angelelli sarà devoluto all’ANGSA Lazio onlus -Associazione Nazionale Genitori di Soggetti Autistici. \nIl violinista Maestro Riccardo Bonaccini e i chitarristi Maurizio Di Carlo e Amedeo Murrone cureranno l’accompagnamento musicale della serata. \n  \n  \n  \n  \n  \n  \n 
URL:https://lemezzelane.eu/event/il-2019-de-le-mezzelane-si-apre-con-un-omaggio-alla-poetica-di-maria-racioppi/
LOCATION:Associazione Pugliese di Roma\, via Aldovrandi 16\, Roma
CATEGORIES:eventi,presentazioni,reading
ATTACH;FMTTYPE=image/jpeg:https://lemezzelane.eu/wp-content/uploads/2018/12/maria_racioppi.jpg
END:VEVENT
BEGIN:VEVENT
DTSTART;TZID=Europe/Amsterdam:20180922T180000
DTEND;TZID=Europe/Amsterdam:20180922T193000
DTSTAMP:20260421T101514
CREATED:20180718T171208Z
LAST-MODIFIED:20180718T171208Z
UID:3242-1537639200-1537644600@lemezzelane.eu
SUMMARY:Mapi presenta la sua seconda antologia poetica a Roma
DESCRIPTION:Si intitola Il vento della vita e raccoglie i componimenti di una donna che ha fatto della poesia il centro della sua vita. Nata in Belgio\, laureata in filosofia\, docente di Storia e Lingua e Letteratura italiana\, ha fatto la volontaria nella Croce Rossa durante i giorni neri dei terremoti che hanno colpito il Centro Italia. \n \nLa poesia è il suo cuore\, ma anche i suoi sogni e la favola che rende più lievi gli incubi e il buio della notte. Emozioni\, mare\, natura e tramonti fanno da sfondo alle vicende della sua vita e diventano versi e i versi riparo dal dolore e dal pensiero della morte. \nIl 22 settembre alle ore 18:00\, a Roma\, Mapi parlerà della sua ultima raccolta presso la Feltrinelli di viale Libia; a farle da relatrice e compagna di strada la giornalista Cinzia Baldazzi. \nL’incasso\, tolte le spese\, andrà in beneficienza alla sezione laziale dell’Associazione Nazionale Genitori di Soggetti Autistici (ANGSA).
URL:https://lemezzelane.eu/event/mapi-presenta-la-sua-seconda-antologia-poetica-a-roma/
LOCATION:la Feltrinelli\, viale Libia 186\, Roma\, Italia
CATEGORIES:presentazioni
END:VEVENT
END:VCALENDAR