BEGIN:VCALENDAR
VERSION:2.0
PRODID:-//LetterarieMenti Gruppo Editoriale - ECPv6.14.2//NONSGML v1.0//EN
CALSCALE:GREGORIAN
METHOD:PUBLISH
X-WR-CALNAME:LetterarieMenti Gruppo Editoriale
X-ORIGINAL-URL:https://lemezzelane.eu
X-WR-CALDESC:Eventi per LetterarieMenti Gruppo Editoriale
REFRESH-INTERVAL;VALUE=DURATION:PT1H
X-Robots-Tag:noindex
X-PUBLISHED-TTL:PT1H
BEGIN:VTIMEZONE
TZID:Europe/Amsterdam
BEGIN:DAYLIGHT
TZOFFSETFROM:+0100
TZOFFSETTO:+0200
TZNAME:CEST
DTSTART:20230326T010000
END:DAYLIGHT
BEGIN:STANDARD
TZOFFSETFROM:+0200
TZOFFSETTO:+0100
TZNAME:CET
DTSTART:20231029T010000
END:STANDARD
END:VTIMEZONE
BEGIN:VEVENT
DTSTART;TZID=Europe/Amsterdam:20231115T180000
DTEND;TZID=Europe/Amsterdam:20231115T200000
DTSTAMP:20260421T102640
CREATED:20231025T104425Z
LAST-MODIFIED:20231029T082636Z
UID:7694-1700071200-1700078400@lemezzelane.eu
SUMMARY:Valentina Nuccio e Marco Speciale a BookCity Milano
DESCRIPTION:AperiTerra – Storie di un pianeta in fiamme: un’appuntamento speciale presso Incipit23\, compreso nel calendario di BookCity Milano\, con gli scrittori Valentina Nuccio e Marco Speciale. \nBookCity Milano è un evento condiviso tra tutti i protagonisti del sistema editoriale che ha l’obiettivo di mettere al centro di una serie di eventi diffusi sul territorio urbano il libro\, la lettura e i lettori\, come motori e protagonisti dell’identità della città e delle sue trasformazioni nella storia passata\, presente e futura. (dal sito web BookCity) \nIl giorno 15 Novembre alle ore 18:00 Valentina Nuccio\, autrice di “Terra d’ombra Bruciata” e Marco Speciale\, autore di “Terra Sporca”\, vi parleranno delle loro “storie di terra” accompagnati dal Nostro Renato Ghezzi\, relatore attento e preciso. Un aperitivo letterario dedicato a una tematica sempre più sentita di anno in anno: l’ambiente e la nostra Madre Terra. \n \n 
URL:https://lemezzelane.eu/event/valentina-nuccio-e-marco-speciale-a-bookcity-milano/
LOCATION:Incipit23 Bistrot letterario\, Via Casoretto 42\, Milano
CATEGORIES:presentazioni,rassegne culturali
ATTACH;FMTTYPE=image/png:https://lemezzelane.eu/wp-content/uploads/2023/10/2.png
END:VEVENT
END:VCALENDAR