BEGIN:VCALENDAR
VERSION:2.0
PRODID:-//LetterarieMenti Gruppo Editoriale - ECPv6.14.2//NONSGML v1.0//EN
CALSCALE:GREGORIAN
METHOD:PUBLISH
X-WR-CALNAME:LetterarieMenti Gruppo Editoriale
X-ORIGINAL-URL:https://lemezzelane.eu
X-WR-CALDESC:Eventi per LetterarieMenti Gruppo Editoriale
REFRESH-INTERVAL;VALUE=DURATION:PT1H
X-Robots-Tag:noindex
X-PUBLISHED-TTL:PT1H
BEGIN:VTIMEZONE
TZID:Europe/Amsterdam
BEGIN:DAYLIGHT
TZOFFSETFROM:+0100
TZOFFSETTO:+0200
TZNAME:CEST
DTSTART:20190331T010000
END:DAYLIGHT
BEGIN:STANDARD
TZOFFSETFROM:+0200
TZOFFSETTO:+0100
TZNAME:CET
DTSTART:20191027T010000
END:STANDARD
BEGIN:DAYLIGHT
TZOFFSETFROM:+0100
TZOFFSETTO:+0200
TZNAME:CEST
DTSTART:20200329T010000
END:DAYLIGHT
BEGIN:STANDARD
TZOFFSETFROM:+0200
TZOFFSETTO:+0100
TZNAME:CET
DTSTART:20201025T010000
END:STANDARD
BEGIN:DAYLIGHT
TZOFFSETFROM:+0100
TZOFFSETTO:+0200
TZNAME:CEST
DTSTART:20210328T010000
END:DAYLIGHT
BEGIN:STANDARD
TZOFFSETFROM:+0200
TZOFFSETTO:+0100
TZNAME:CET
DTSTART:20211031T010000
END:STANDARD
END:VTIMEZONE
BEGIN:VEVENT
DTSTART;TZID=Europe/Amsterdam:20211106T153000
DTEND;TZID=Europe/Amsterdam:20211106T180000
DTSTAMP:20260423T142147
CREATED:20211101T113521Z
LAST-MODIFIED:20211105T161553Z
UID:6532-1636212600-1636221600@lemezzelane.eu
SUMMARY:La scrittrice Daniela Mencarelli Hofmann sarà premiata per il libro “L’ombra di Perseo”
DESCRIPTION:Il Concorso Area Cultura 2021\, indetto dall’Associazione Culturale Teatro Petrolini di Roma è stato vinto da 7 autrici e 7 autori\, fra cui Daniela Mencarelli Hofmann\,  autrice del libro “L’ombra di Perseo”\, pubblicato da Le Mezzelane Casa Editrice\, incentrato sulla di violenza di genere. Le premiazioni si svolgeranno sabato 6 novembre 2021 alle ore 15:30 presso il teatro Petrolini\, in via Rubattino 5 al Testaccio a Roma.
URL:https://lemezzelane.eu/event/la-scrittrice-daniela-mencarelli-hofmann-sara-premiata-per-il-libro-lombra-di-perseo/
LOCATION:teatro Petrolini\, via Rubattino 5\, Testaccio\, Roma
CATEGORIES:concorsi,eventi,premiazioni
ATTACH;FMTTYPE=image/jpeg:https://lemezzelane.eu/wp-content/uploads/2019/07/Lombra-di-Perseo.jpg
END:VEVENT
BEGIN:VEVENT
DTSTART;TZID=Europe/Amsterdam:20210729T213000
DTEND;TZID=Europe/Amsterdam:20210729T223000
DTSTAMP:20260423T142147
CREATED:20210725T141553Z
LAST-MODIFIED:20210725T141553Z
UID:6295-1627594200-1627597800@lemezzelane.eu
SUMMARY:Santo Stefano al mare ospita la scrittrice Daniela Mencarelli Hofmann per parlare di violenza di genere
DESCRIPTION:Marco si sveglia in un letto d’ospedale in gravi condizioni e non sa come c’è finito. Sente un dottore e un poliziotto accordarsi sui tempi dell’interrogatorio\, perché lui\, il paziente\, non è ancora fuori pericolo. Marco non ricorda nulla\, ha come un buco nero nella testa: se chiude gli occhi\, vede solo rosso. \nL’ombra di Perseo\, di Daniela Mencarelli Hofmann\, Le Mezzelane Casa Editrice \n \nGiovedì 29 luglio 2021 alle ore 21:30 l’autrice parlerà del suo libro con lo showman Gianni Rossi in piazza Baden Powell a Santo Stefano al mare (Im)
URL:https://lemezzelane.eu/event/santo-stefano-al-mare-ospita-la-scrittrice-daniela-mencarelli-hofmann-per-parlare-di-violenza-di-genere/
LOCATION:piazza Baden Powell\, Santo Stefano al mare (Im)
CATEGORIES:eventi,presentazioni,reading
ATTACH;FMTTYPE=image/jpeg:https://lemezzelane.eu/wp-content/uploads/2019/07/Lombra-di-Perseo.jpg
END:VEVENT
BEGIN:VEVENT
DTSTART;TZID=Europe/Amsterdam:20210630T180000
DTEND;TZID=Europe/Amsterdam:20210630T190000
DTSTAMP:20260423T142147
CREATED:20210624T163708Z
LAST-MODIFIED:20210624T163708Z
UID:6245-1625076000-1625079600@lemezzelane.eu
SUMMARY:Tornano le presentazioni dal vivo di Daniela Mencarelli Hofmann
DESCRIPTION:Laura è una donna emancipata. Due figlie\, il lavoro di traduttrice\, molti rapporti sociali gratificanti e un marito geloso\, urtato dalla sua indipendenza e dalla superiorità mentale. E poi c’è Golan\, profugo siriano. Chi dei due cercherà di sminuirne talento e sentimenti? Chi la ridurrà in coma in un letto d’ospedale? \n \nDaniela Mencarelli Hofmann\, “L’ombra di Perseo” Le Mezzelane Casa Editrice \n \nMercoledì 30 giugno 2021 alle ore 18:00 la scrittrice sarà ospite dell’U.D.I. Genova A.P.S. presso la libreria Capurro di Recco (Ge)\, in via IV novembre per parlare di violenza di genere e femminicidio a partire dal suo avvincente libro.
URL:https://lemezzelane.eu/event/tornano-le-presentazioni-dal-vivo-di-daniela-mencarelli-hofmann/
LOCATION:libreria Capurro\, via IV novembre 37\, Recco (Ge)
CATEGORIES:eventi,presentazioni,reading
ATTACH;FMTTYPE=image/jpeg:https://lemezzelane.eu/wp-content/uploads/2019/07/Lombra-di-Perseo.jpg
END:VEVENT
BEGIN:VEVENT
DTSTART;TZID=Europe/Amsterdam:20200212T183000
DTEND;TZID=Europe/Amsterdam:20200212T193000
DTSTAMP:20260423T142147
CREATED:20200201T114044Z
LAST-MODIFIED:20200201T114044Z
UID:5617-1581532200-1581535800@lemezzelane.eu
SUMMARY:La denuncia del femminicidio nel romanzo di Daniela Mencarelli Hofmann a Roma
DESCRIPTION:Ambiente\, sviluppo\, migrazione e discriminazione di genere\, questi gli argomenti di cui ha scritto Daniela Mencarelli Hofmann\, romana. Ha preso la laurea magistrale in Scienze politiche e quella breve in pedagogia. L’ombra di Perseo\, il suo primo romanzo\, affronta la violenza di genere con un intreccio efficace e un finale a sorpresa. Il libro è stato pubblicato da Le Mezzelane Casa Editrice. \nMercoledì 12 febbraio 2020 l’autrice sarà ospite di Bookstorie-Libri\, incontri\, racconti\, in via Valsassina 15/17 a Roma. La presentazione sarà curata da Anna Procaccini e le letture da Orsetta Foà. L’evento avrà inizio alle ore 18:30.\n \nHome
URL:https://lemezzelane.eu/event/la-denuncia-del-femminicidio-nel-romanzo-di-daniela-mencarelli-hofmann-a-roma/
LOCATION:Bookstorie-Libri\, incontri\, racconti\, via Valsassina 15/17\, Roma
CATEGORIES:eventi,presentazioni,reading
ATTACH;FMTTYPE=image/jpeg:https://lemezzelane.eu/wp-content/uploads/2019/07/Lombra-di-Perseo.jpg
END:VEVENT
BEGIN:VEVENT
DTSTART;TZID=Europe/Amsterdam:20190714T180000
DTEND;TZID=Europe/Amsterdam:20190714T220000
DTSTAMP:20260423T142147
CREATED:20190702T140244Z
LAST-MODIFIED:20190702T140244Z
UID:4893-1563127200-1563141600@lemezzelane.eu
SUMMARY:Quelli del geco ospitano la scrittrice Daniela Mencarelli Hofmann
DESCRIPTION:L’autrice ha firmato l’intenso romanzo L’ombra di Perseo\, uscito per i tipi di Le Mezzelane Casa Editrice. Romana\, vive a Zurigo e sverna a Costarainera\, in provincia di Imperia; ha un curriculum che non finisce più nel quale spicca la sua specializzazione in discriminazione di genere. Nel tempo libero scrive\, dipinge e studia psicologia. \nLaura è una donna emancipata. Due figlie\, il lavoro di traduttrice\, molti rapporti sociali gratificanti e un marito geloso\, urtato dalla sua indipendenza e dalla superiorità mentale. E poi c’è Golan\, profugo siriano. Chi dei due cercherà di sminuirne talento e sentimenti? Chi la ridurrà in coma in un letto d’ospedale? \nDaniela Mencarelli Hofmann sarà ospite dell’associazione culturale Quelli del geco per una lettura in piazza domenica 14 luglio 2019 alle ore 18:00. L’evento si terrà in piazza Vittorio Emanuele II a Costarainera (Im).
URL:https://lemezzelane.eu/event/quelli-del-geco-ospitano-la-scrittrice-daniela-mencarelli-hofmann/
LOCATION:associazione culturale Quelli del geco\, piazza Vittorio Emanuele II\, Costarainera (Im)
CATEGORIES:eventi,reading,spettacoli
ATTACH;FMTTYPE=image/jpeg:https://lemezzelane.eu/wp-content/uploads/2019/07/Lombra-di-Perseo.jpg
END:VEVENT
BEGIN:VEVENT
DTSTART;TZID=Europe/Amsterdam:20190418T183000
DTEND;TZID=Europe/Amsterdam:20190418T193000
DTSTAMP:20260423T142147
CREATED:20190403T112910Z
LAST-MODIFIED:20190403T112910Z
UID:4500-1555612200-1555615800@lemezzelane.eu
SUMMARY:L’esordio letterario di Daniela Mencarelli Hofmann nella sua città natale
DESCRIPTION:Daniela Mencarelli Hofmann è nata a Roma\, vive a Zurigo e sverna a Costarainera (Im). Attivista civile per l’ambiente\, la migrazione e la discriminazione di genere\, ama scrivere\, dipingere e aggiornare le sue conoscenze di psicologia. \n \nL’ombra di Perseo è il suo romanzo d’esordio. Edito da Le Mezzelane Casa Editrice\, affronta il tema della violenza sul corpo delle donne\, un’emergenza sociale che la società non considera tale e che la giurisprudenza tende a minimizzare. \nChi ha massacrato Laura\, che giace in coma in un letto d’ospedale? Attorno a questa domanda\, che avrà una risposta solo alla fine del romanzo\, si dipana la matassa di un romanzo che\, lungi dall’essere strutturato come un giallo\, denuncia con grande efficacia la brutalità su cui molti\, troppi uomini basano i loro rapporti con le donne\, siano esse fidanzate\, conviventi o spose. \nLa scrittrice presenterà L’ombra di Perseo il 18 aprile 2019\, alle ore 18:30\, presso la libreria L’altra città di Roma. Relatrice Silvia Dionisi\, titolare della libreria. Reading a cura dell’autrice.
URL:https://lemezzelane.eu/event/lesordio-letterario-di-daniela-mencarelli-hofmann-nella-sua-citta-natale/
LOCATION:libreria L’altra città\, via Pavia 106\, Roma
CATEGORIES:eventi,freschidistampa,presentazioni,reading
ATTACH;FMTTYPE=image/jpeg:https://lemezzelane.eu/wp-content/uploads/2019/04/copertina_ebook-3.jpg
END:VEVENT
END:VCALENDAR