BEGIN:VCALENDAR
VERSION:2.0
PRODID:-//LetterarieMenti Gruppo Editoriale - ECPv6.14.2//NONSGML v1.0//EN
CALSCALE:GREGORIAN
METHOD:PUBLISH
X-WR-CALNAME:LetterarieMenti Gruppo Editoriale
X-ORIGINAL-URL:https://lemezzelane.eu
X-WR-CALDESC:Eventi per LetterarieMenti Gruppo Editoriale
REFRESH-INTERVAL;VALUE=DURATION:PT1H
X-Robots-Tag:noindex
X-PUBLISHED-TTL:PT1H
BEGIN:VTIMEZONE
TZID:Europe/Amsterdam
BEGIN:DAYLIGHT
TZOFFSETFROM:+0100
TZOFFSETTO:+0200
TZNAME:CEST
DTSTART:20200329T010000
END:DAYLIGHT
BEGIN:STANDARD
TZOFFSETFROM:+0200
TZOFFSETTO:+0100
TZNAME:CET
DTSTART:20201025T010000
END:STANDARD
END:VTIMEZONE
BEGIN:VEVENT
DTSTART;TZID=Europe/Amsterdam:20200229T180000
DTEND;TZID=Europe/Amsterdam:20200229T190000
DTSTAMP:20260425T130158
CREATED:20200208T113817Z
LAST-MODIFIED:20200208T113817Z
UID:5704-1582999200-1583002800@lemezzelane.eu
SUMMARY:Roberto Ricci torna con un nuovo noir a tinte forti
DESCRIPTION:Anconetano\, professionista delle acconciature\, ha iniziato a scrivere thriller nel 2012 e da allora non si è più fermato\, ma non è tutto: da alcuni suoi libri sono stati tratti dei cortometraggi; il cosiddetto parrucchiere del brivido ha scritto anche dei racconti\, alcuni dei quali sono confluiti in raccolte e antologie. Dopo Nero corvino per Le Mezzelane Casa Editrice ha da poco pubblicato L’immagine malvagia. \nDemetrio Avolfi è un omicida seriale pentito in semilibertà che vuole scrivere la propria biografia e per farlo si serve del suo scrittore preferito\, Luigi Diamante. Una sera l’assassino non torna in carcere e un’altra vittima del suo stesso modus operandi viene trovata morta. Sarà lui l’autore dell’efferato delitto? E che c’entra una tragica vicenda avvenuta molto tempo prima in città? \nSabato 29 febbraio 2020 alle ore 18:00 lo scrittore presenterà il suo nuovo libro alla libreria Fogola di Ancona\, in corso Giuseppe Mazzini 170. Relatrice Rita Angelelli\, direttrice de Le Mezzelane Casa Editrice.
URL:https://lemezzelane.eu/event/roberto-ricci-torna-con-un-nuovo-noir-a-tinte-forti/
LOCATION:libreria Fogola\, corso Giuseppe Mazzini 170\, Ancona
CATEGORIES:eventi,freschidistampa,presentazioni
ATTACH;FMTTYPE=image/jpeg:https://lemezzelane.eu/wp-content/uploads/2020/02/Limmagine-malvagia.jpg
END:VEVENT
END:VCALENDAR