BEGIN:VCALENDAR
VERSION:2.0
PRODID:-//LetterarieMenti Gruppo Editoriale - ECPv6.14.2//NONSGML v1.0//EN
CALSCALE:GREGORIAN
METHOD:PUBLISH
X-WR-CALNAME:LetterarieMenti Gruppo Editoriale
X-ORIGINAL-URL:https://lemezzelane.eu
X-WR-CALDESC:Eventi per LetterarieMenti Gruppo Editoriale
REFRESH-INTERVAL;VALUE=DURATION:PT1H
X-Robots-Tag:noindex
X-PUBLISHED-TTL:PT1H
BEGIN:VTIMEZONE
TZID:Europe/Amsterdam
BEGIN:DAYLIGHT
TZOFFSETFROM:+0100
TZOFFSETTO:+0200
TZNAME:CEST
DTSTART:20220327T010000
END:DAYLIGHT
BEGIN:STANDARD
TZOFFSETFROM:+0200
TZOFFSETTO:+0100
TZNAME:CET
DTSTART:20221030T010000
END:STANDARD
END:VTIMEZONE
BEGIN:VEVENT
DTSTART;TZID=Europe/Amsterdam:20220312T100000
DTEND;TZID=Europe/Amsterdam:20220313T220000
DTSTAMP:20260425T124544
CREATED:20220310T134445Z
LAST-MODIFIED:20220310T134445Z
UID:6776-1647079200-1647208800@lemezzelane.eu
SUMMARY:Parte Effetto Domina\, due giorni per parlare della donna e delle donne\, con la presentazione della silloge LGBTQ di Sonia Zuin
DESCRIPTION:Sabato 12 e domenica 13 marzo 2022 si svolgerà la rassegna “Effetto domina”\, voluta e organizzata dalle associazioni “Per i diritti umani”\, di Alessandra Montesanto\, e “Licenza poetica”\, della poetessa Monica Moka Zanon\,  che da poco ha pubblicato la silloge “Vuoti d’aria” con Le Mezzelane Casa Editrice. \nSabato 12 marzo 2022 alle ore 16:00 la poetessa Sonia Zuin presenterà la sua raccolta LGBTQ pubblicata sempre da Le Mezzelane Casa Editrice.\n \nUna raccolta di cinque poesie a tema\,  ognuna delle quali ha come titolo una delle lettere che compongono l’acronimo LGBTQ. Il tema in comune  sono i sentimenti e l’amore\, ma anche il dolore che a volte tentiamo invano di lasciare fuori dalla porta di casa. Le poesie sono volutamente scritte con immagini ricorrenti. (dalla sinossi) \n  \n  \nTutti gli eventi avranno luogo nello “Spazio moderno” di Arona (No) in via Martiri della libertà 38.
URL:https://lemezzelane.eu/event/parte-effetto-domina-due-giorni-per-parlare-della-donna-e-delle-donne-con-la-presentazione-della-silloge-lgbtq-di-sonia-zuin/
LOCATION:“Spazio moderno” di Arona\, via Martiri della libertà 38\, Arona (No)
CATEGORIES:eventi,mostre,presentazioni,reading,spettacoli
ATTACH;FMTTYPE=image/png:https://lemezzelane.eu/wp-content/uploads/2022/03/Effetto-domina.png
END:VEVENT
END:VCALENDAR