BEGIN:VCALENDAR
VERSION:2.0
PRODID:-//LetterarieMenti Gruppo Editoriale - ECPv6.14.2//NONSGML v1.0//EN
CALSCALE:GREGORIAN
METHOD:PUBLISH
X-WR-CALNAME:LetterarieMenti Gruppo Editoriale
X-ORIGINAL-URL:https://lemezzelane.eu
X-WR-CALDESC:Eventi per LetterarieMenti Gruppo Editoriale
REFRESH-INTERVAL;VALUE=DURATION:PT1H
X-Robots-Tag:noindex
X-PUBLISHED-TTL:PT1H
BEGIN:VTIMEZONE
TZID:Europe/Amsterdam
BEGIN:DAYLIGHT
TZOFFSETFROM:+0100
TZOFFSETTO:+0200
TZNAME:CEST
DTSTART:20210328T010000
END:DAYLIGHT
BEGIN:STANDARD
TZOFFSETFROM:+0200
TZOFFSETTO:+0100
TZNAME:CET
DTSTART:20211031T010000
END:STANDARD
BEGIN:DAYLIGHT
TZOFFSETFROM:+0100
TZOFFSETTO:+0200
TZNAME:CEST
DTSTART:20220327T010000
END:DAYLIGHT
BEGIN:STANDARD
TZOFFSETFROM:+0200
TZOFFSETTO:+0100
TZNAME:CET
DTSTART:20221030T010000
END:STANDARD
END:VTIMEZONE
BEGIN:VEVENT
DTSTART;TZID=Europe/Amsterdam:20220519T080000
DTEND;TZID=Europe/Amsterdam:20220523T210000
DTSTAMP:20260420T153750
CREATED:20220505T171511Z
LAST-MODIFIED:20220515T175804Z
UID:6899-1652947200-1653339600@lemezzelane.eu
SUMMARY:Al Salone del libro di Torino Le Mezzelane Casa Editrice partecipa con novità editoriali\, presentazioni e firmacopie
DESCRIPTION:  \nUn grande stand ricco di libri\, gadget e molto altro\, un denso programma fatto di presentazioni e firmacopie\, novità editoriali\, autrici e autori\, emergenti e non: quest’anno Le Mezzelane Casa Editrice\, la nota realtà editoriale marchigiana\, offrirà al pubblico una mole di libri interessanti e avvincenti dalle copertine accattivanti. La novità di quest’anno sarà la presenza del gruppo editor\, che valuterà i manoscritti inediti che di volta in volta verranno presentati loro. Le Mezzelane Casa Editrice vive per la cultura\, vive di cultura\, per Le Mezzelane Casa Editrice dietro le parole ci sono le persone. \n \n \n  \nGiovedì 19 Maggio \nPresentazioni \n  \n \nMarco Ghergo alle 16:00 \n  \nFirmacopie \n  \n \nMarco Ghergo dalle 16:00 alle 17:00 \n  \nVenerdì 20 Maggio \nPresentazioni \n  \n \nStefano Meglioraldi alle 12:00 \n  \n \nBeniamino Cardines alle 17:00 \n  \n \nMarcella Manca alle 18:00 \n  \nFirmacopie \n  \n \nPaola Paoletti dalle 11:00 alle 12:00 \n  \n \nMarcella Manca dalle 12:00 alle 13:00 \n  \n \nStefano Meglioraldi dalle 15:00 alle 16:00 \n  \n  \nAndrea Ansevini e Sara Marino dalle 16:00 alle 17:00 \n  \n \nEdoardo Guerrini dalle 17:00 alle 18:00 \n  \nSabato 21 maggio \nPresentazioni \n  \n  \nAndrea Ansevini e Sara Marino: il salotto letterario alle 11:30 \n  \n \nLidia Borghi Sagone alle 12:30 \n  \n \nMaurizio Selvatico alle 14:00 \n  \n \nPaola Paoletti alle 16:00 \n  \n  \nAndrea Ansevini e Sara Marino alle 17:00 \n  \n \nGianpiero Pisso alle 17:30 \n  \n \nGiovanna Avignoni alle 18:00 \n  \n \nLucia Serracca alle 18:30 \n  \nFirmacopie \n  \n \nGiovanna Avignoni dalle 11:30 alle 12:30 \n  \n \nLidia Borghi Sagone dalle 13:00 alle 14:00 \n  \n \nGianpiero Pisso dalle 14:00 alle 15:00 \n  \n \nFrancesca Redolfi dalle 15:00 alle 16:00 \n  \n \nLucia Serracca dalle 16:00 alle 17:00 \n  \n \nChiara De Giorgi dalle 17:00 alle 18:00 \n  \n \nDavide Pelanda dalle 18:00 alle 19:00 \n  \nDomenica 22 Maggio \nPresentazioni \n  \n   \nEufemia Griffo\, Renato Ghezzi e Stefania Suvero alle 11:30 \n  \n  \nSilvia del Beccaro e Marco Apolloni alle 14:30 \n  \n \nRoberto Ricci alle 15:30 \n  \n \nChiara De Giorgi alle 16:00 \n  \n \nNuccio Castellino alle 16:30 \n  \n \nMechi Cena alle 17:30 \n  \n \nPiero Delzoppo alle 18:30 \n  \nFirmacopie \n  \n   \nSonia Zuin\, Monica Moka Zanon e Marinella Giuni dalle 12:00 alle 13:00 \n  \n   \nEufemia Griffo\, Renato Ghezzi e Stefania Suvero dalle 13:00 alle 14:00 \n  \n  \nSilvia del Beccaro e Marco Apolloni dalle 15:00 alle 16:00 \n  \n \nRachele Coerezza dalle 15:00 alle 16:00 \n  \n \nRoberto Ricci dalle 16:00 alle 17:00 \n  \n \nPiero Delzoppo dalle 16:00 alle 17:00 \n  \n \nNuccio Castellino dalle 17:00 alle 18:00 \n  \n \nBeniamino Cardines dalle 17:00 alle 18:00
URL:https://lemezzelane.eu/event/al-salone-del-libro-di-torino-le-mezzelane-casa-editrice-partecipa-con-novita-editoriali-presentazioni-e-firmacopie/
LOCATION:Salone del libro di Torino\, Lingotto Fiere\, Via Nizza 294\, Torino
CATEGORIES:eventi,fiere e mostre di settore,mostre,presentazioni
ATTACH;FMTTYPE=image/jpeg:https://lemezzelane.eu/wp-content/uploads/2022/05/SalTo-logo.jpg
END:VEVENT
BEGIN:VEVENT
DTSTART;TZID=Europe/Amsterdam:20220318T170000
DTEND;TZID=Europe/Amsterdam:20220318T190000
DTSTAMP:20260420T153750
CREATED:20220316T105326Z
LAST-MODIFIED:20220316T105326Z
UID:6809-1647622800-1647630000@lemezzelane.eu
SUMMARY:Durante la serata organizzata da “Salsedine-Approdi culturali” la scrittrice Giovanna Avignoni presenta il suo libro
DESCRIPTION:A sedici anni la vita è densa di emozioni. Si scopre il primo amore\, con i suoi palpiti e le sue delusioni. A sedici anni si è certi di avere il mondo in pugno. Gemma\, invece\, si sente sola e inutile. Detesta se stessa e nasconde a tutti l’angoscia che si porta dentro. Solo il suo angelo sembra capirla. (dalla sinossi) \nLa pazienza dei girasoli\, di Giovanna Avignoni\, Le Mezzelane Casa Editrice \n \nVenerdì 18 marzo 2022 a partire dalle ore 17:00 l’autrice parteciperà con il suo libro “La pazienza dei girasoli” alla mini rassegna letteraria ideata da “Salsedine-Approdi culturali”. L’evento si svolgerà presso il locale “Capitan Libeccio” (porto turistico di Roma-zona spiaggetta) sul lungomare Duca degli Abruzzi 84 al lido di Ostia (Rm).
URL:https://lemezzelane.eu/event/durante-la-serata-organizzata-da-salsedine-approdi-culturali-la-scrittrice-giovanna-avignoni-presenta-il-suo-libro/
LOCATION:“Capitan Libeccio”\, porto turistico di Roma-lungomare Duca degli Abruzzi 84\, lido di Ostia (Rm)
CATEGORIES:eventi,presentazioni
ATTACH;FMTTYPE=image/jpeg:https://lemezzelane.eu/wp-content/uploads/2022/03/girasoli_ebook.jpg
END:VEVENT
BEGIN:VEVENT
DTSTART;TZID=Europe/Amsterdam:20211014T100000
DTEND;TZID=Europe/Amsterdam:20211018T200000
DTSTAMP:20260420T153750
CREATED:20211005T144757Z
LAST-MODIFIED:20211005T144757Z
UID:6476-1634205600-1634587200@lemezzelane.eu
SUMMARY:Salone del libro di Torino 2021\, date e orari delle presentazioni de Le Mezzelane Casa Editrice
DESCRIPTION:Si svolgerà dal 14 al 18 ottobre prossimi il SalTo 2021 e Le Mezzelane Casa Editrice ci sarà con 28 fra autrici e autori. A dialogare con loro la direttrice editoriale \nRita Angelelli\ne la capo editor \nMaria Grazia Beltrami\nGli orari delle presentazioni presso gli stand Èdi.Marca-Associazione Editori Marchigiani e della Regione Marche\, padiglione 2\, stand F 30. \n  \nGiovedì 14 ottobre \nore 11:00 Il lago verde di \nEdoardo Guerrini\nore 12:00 Pensieri fugaci di \nMaria Teresa Chechile\n  \nVenerdì 15 ottobre \nore 12:00 Questo non è un libro sul covid di\n \nMaria Concetta Distefano\nDoriana Bruni\nGiuliana Milia\nCaterina Pagliasso\nore 15:00 Nenia di \nElena Fanti\n a seguire Il quaderno verde. La biblioteca degli angeli – 1 di \nMarcella Manca\nore 16:00 Tutta la verità di \nFrancesco Celentano\n  \nSabato 16 ottobre \nore 11:00 La pace viaggia in autobus di \nRenato Ghezzi\n a seguire Da lontano\, Venezia. I viaggi di Marco Polo di \nEufemia Griffo\n infine La Lalla di \nStefania Suvero\nore 11:30 Terra d’ombra bruciata di \nValentina Nuccio\n a seguire Come una cometa di \nViviana Nobilini\nore 12:00 Amici per la pelle di \nGreta Marras\n a seguire Mia fata dei boschi di \nElena Ungini\nore 12:30 Nella stanza del tè di \nMarinella Giuni\nore 15:00 El diablo di \nFabio Ceraulo\n a seguire Dedalus di \nFrancesca Redolfi\nore 19:45 presso la sala Madrid Transfer 2093 insieme a Maria Grazia Beltrami (traduttrice di Solarpunk. Storie di ecologia fantastica in un mondo sostenibile) di \nStefano Meglioraldi\n  \nDomenica 17 ottobre \nore 10:30 Il Dio carcerato. Il ruolo della dimensione religiosa nei penitenziari italiani. Testimonianze ed esperienze di \nDavide Pelanda\nore 11:30 Salmo XXIV di \nLucia Serracca\n a seguire La pazienza dei girasoli di \nGiovanna Avignoni\nore 12:00 Ankon\, Il Signore di Ankon e Le Tre Torri del Conero di \nStefano Cardellini\nore 16:30 Benzina estetica sul mondo di \nMatteo Zanini\n a seguire Donne da sfogliare. Le vite singolari di due attiviste lesbiche italiane di \nAlessandra Bialetti\n e Lidia Borghi \nore 19:00 L’immagine malvagia di \nRoberto Ricci\na seguire Il passato è dispari di \nEros Bellistracci
URL:https://lemezzelane.eu/event/salone-del-libro-di-torino-2021-date-e-orari-delle-presentazioni-de-le-mezzelane-casa-editrice/
LOCATION:Salone internazionale del libro\, Lingotto Fiere\, Via Nizza 294\, Torino
CATEGORIES:eventi,fiere e mostre di settore,presentazioni
ATTACH;FMTTYPE=image/png:https://lemezzelane.eu/wp-content/uploads/2021/10/logo_quadrato_stampa-SalTo.png
END:VEVENT
END:VCALENDAR