BEGIN:VCALENDAR
VERSION:2.0
PRODID:-//LetterarieMenti Gruppo Editoriale - ECPv6.14.2//NONSGML v1.0//EN
CALSCALE:GREGORIAN
METHOD:PUBLISH
X-WR-CALNAME:LetterarieMenti Gruppo Editoriale
X-ORIGINAL-URL:https://lemezzelane.eu
X-WR-CALDESC:Eventi per LetterarieMenti Gruppo Editoriale
REFRESH-INTERVAL;VALUE=DURATION:PT1H
X-Robots-Tag:noindex
X-PUBLISHED-TTL:PT1H
BEGIN:VTIMEZONE
TZID:Europe/Amsterdam
BEGIN:DAYLIGHT
TZOFFSETFROM:+0100
TZOFFSETTO:+0200
TZNAME:CEST
DTSTART:20190331T010000
END:DAYLIGHT
BEGIN:STANDARD
TZOFFSETFROM:+0200
TZOFFSETTO:+0100
TZNAME:CET
DTSTART:20191027T010000
END:STANDARD
END:VTIMEZONE
BEGIN:VEVENT
DTSTART;TZID=Europe/Amsterdam:20190222T180000
DTEND;TZID=Europe/Amsterdam:20190222T190000
DTSTAMP:20260421T120115
CREATED:20190217T160415Z
LAST-MODIFIED:20190217T160415Z
UID:4287-1550858400-1550862000@lemezzelane.eu
SUMMARY:Il comune di Erchie ospiterà Io e l’amore di Dora Masi
DESCRIPTION:Le Mezzelane Casa Editrice ha dato alle stampe il libro Io e l’amore\, della scrittrice brindisina Dora Masi. Inserito nella collana Live & Love\, parla del ritrovamento di un diario risalente ai tempi del liceo da parte di Manuela\, la quale farà un tuffo nel passato e vi leggerà del suo primo amore\, Salvo. Si può cambiare solo per compiacere una persona che non ci valorizza? Lo scoprirà chi leggerà il testo di Dora Masi. \n \nIn collaborazione con l’associazione La Consulta delle Donne\, il comune di Erchie (Br) ha organizzato un caffè letterario al quale l’autrice parteciperà con il suo libro venerdì 22 febbraio 2019 alle ore 18:00 presso il bar Marzanotto. Interverranno il sindaco\, Giuseppe Margheriti\, la vice sindaca\, Chiara Saracino\, assessora alle pari opportunità e Teresa Mastrangelo\, presidente della Consulta delle Donne. Patrizia Micelli\, esponente della Consulta\, leggerà alcuni brani tratti dal libro\, mentre l’autrice stessa farà ascoltare le canzoni citate nel romanzo alle persone presenti. Modererà la professoressa Ilaria carrozzo.
URL:https://lemezzelane.eu/event/il-comune-di-erchie-ospitera-io-e-lamore-di-dora-masi/
LOCATION:bar Marzanotto\, via calvario 1\, Erchie (Br)
CATEGORIES:eventi,presentazioni,reading
ATTACH;FMTTYPE=image/png:https://lemezzelane.eu/wp-content/uploads/2019/02/aa.png
END:VEVENT
END:VCALENDAR