BEGIN:VCALENDAR
VERSION:2.0
PRODID:-//LetterarieMenti Gruppo Editoriale - ECPv6.14.2//NONSGML v1.0//EN
CALSCALE:GREGORIAN
METHOD:PUBLISH
X-ORIGINAL-URL:https://lemezzelane.eu
X-WR-CALDESC:Eventi per LetterarieMenti Gruppo Editoriale
REFRESH-INTERVAL;VALUE=DURATION:PT1H
X-Robots-Tag:noindex
X-PUBLISHED-TTL:PT1H
BEGIN:VTIMEZONE
TZID:Europe/Amsterdam
BEGIN:DAYLIGHT
TZOFFSETFROM:+0100
TZOFFSETTO:+0200
TZNAME:CEST
DTSTART:20190331T010000
END:DAYLIGHT
BEGIN:STANDARD
TZOFFSETFROM:+0200
TZOFFSETTO:+0100
TZNAME:CET
DTSTART:20191027T010000
END:STANDARD
BEGIN:DAYLIGHT
TZOFFSETFROM:+0100
TZOFFSETTO:+0200
TZNAME:CEST
DTSTART:20200329T010000
END:DAYLIGHT
BEGIN:STANDARD
TZOFFSETFROM:+0200
TZOFFSETTO:+0100
TZNAME:CET
DTSTART:20201025T010000
END:STANDARD
BEGIN:DAYLIGHT
TZOFFSETFROM:+0100
TZOFFSETTO:+0200
TZNAME:CEST
DTSTART:20210328T010000
END:DAYLIGHT
BEGIN:STANDARD
TZOFFSETFROM:+0200
TZOFFSETTO:+0100
TZNAME:CET
DTSTART:20211031T010000
END:STANDARD
END:VTIMEZONE
BEGIN:VEVENT
DTSTART;TZID=Europe/Amsterdam:20210911T160000
DTEND;TZID=Europe/Amsterdam:20210912T200000
DTSTAMP:20260423T141513
CREATED:20210909T074233Z
LAST-MODIFIED:20210910T085217Z
UID:6376-1631376000-1631476800@lemezzelane.eu
SUMMARY:A Offagna la prima mostra mercato a tema ecologico ospita Le Mezzelane Casa Editrice
DESCRIPTION:Si svolgerà durante la fine settimana dell’11 e 12 settembre 2021 in piazza del Comune a Offagna (An) la “Mostra mercato della transizione ecologica”; l’associazione culturale “Una mole di libri” curerà la parte letteraria\, intitolata “Una mole di libri per l’ecologia della mente” con alcune presentazioni che avranno luogo nel parco della Rimembranza con i seguenti orari: sabato ore 16:00/20:00 e domenica ore 10:00/12:00 e ore 16:00/20:00. Ecco quelle de Le Mezzelane Casa Editrice. \nSabato 11 settembre \nAlle 17:30 Viviana Nobilini  con “Come una cometa” e Andrea Ansevini  con “Dietro la porta” e un assaggio del libro scritto insieme\, “Pinocchio anno zero”. \n  \nAlle ore 19:30 Alessandra Piccinini con “Il portone rosso”; verrà fatto cenno ad altri due libri della scrittrice\, “Il signore lucente” e “Mithra Deus Sol Invictus”\, pubblicati da Nisroch\, casa editrice che fa parte del consorzio “Una mole di libri”. \n  \n  \n  \nDomenica 12 settembre \nAlle ore 17:00 Alessandra Buschi  presenterà la collana “Molliche“\, dedicata ai libri illustrati per l’infanzia \n  \n  \n  \n  \nAlle ore 19:00 Roberto Ricci  con “L’immagine malvagia” e a seguire Rita Angelelli  con “Lucrezia”
URL:https://lemezzelane.eu/event/a-offagna-la-prima-mostra-mercato-a-tema-ecologico-ospita-le-mezzelane-casa-editrice/
LOCATION:piazza del Comune\, Offagna (An)
CATEGORIES:conferenze,eventi,fiere e mostre di settore,presentazioni
ATTACH;FMTTYPE=image/jpeg:https://lemezzelane.eu/wp-content/uploads/2021/09/Offagna.jpg
END:VEVENT
BEGIN:VEVENT
DTSTART;TZID=Europe/Amsterdam:20210902T170000
DTEND;TZID=Europe/Amsterdam:20210905T200000
DTSTAMP:20260423T141513
CREATED:20210828T095912Z
LAST-MODIFIED:20210828T095912Z
UID:6346-1630602000-1630872000@lemezzelane.eu
SUMMARY:All’edizione 2021 di “Libro vivo”\, l’evento letterario per ragazze e ragazzi\, c’è anche Le Mezzelane Casa Editrice
DESCRIPTION:Si terrà durante i giorni dal 2 al 5 settembre 2021\, dalle ore 17:00 alle ore 20:00 a Montegiorgio (Fm) nel chiostro di Sant’Agostino\, la mostra mercato del libro per ragazze e ragazzi e Le Mezzelane Casa Editrice parteciperà con uno stand di libri delle collane “Molliche”\, in cui vengono pubblicati i libri illustrati per bambine e bambini e “Black Moon Street” per le ragazze e i ragazzi dai 10 ai 14 anni. Argomento di questa edizione i quattro elementi. \nLe curatrici: \nAlessandra Buschi per “Molliche” \n \nChiara De Giorgi per “Black Moon Street”
URL:https://lemezzelane.eu/event/alledizione-2021-di-libro-vivo-levento-letterario-per-ragazze-e-ragazzi-ce-anche-le-mezzelane-casa-editrice/
LOCATION:chiostro di Sant’Agostino\, via Giuseppe Garibaldi\, Montegiorgio (Fm)
CATEGORIES:eventi,fiere e mostre di settore,presentazioni
ATTACH;FMTTYPE=image/jpeg:https://lemezzelane.eu/wp-content/uploads/2021/08/Libro-vivo.jpg
END:VEVENT
BEGIN:VEVENT
DTSTART;TZID=Europe/Amsterdam:20210829T080000
DTEND;TZID=Europe/Amsterdam:20210829T170000
DTSTAMP:20260423T141513
CREATED:20210829T095233Z
LAST-MODIFIED:20210829T102406Z
UID:6357-1630224000-1630256400@lemezzelane.eu
SUMMARY:Una mole di libri ad Ascoli Piceno per la prima edizione di “Non ci resta che leggere”
DESCRIPTION:Avrà inizio venerdì 3\, terminerà domenica 5 settembre 2021 e si svolgerà dalle ore 10:00 alle ore 22:00 “Non ci resta che leggere”\, prima edizione di un progetto letterario ambizioso ideato da “Una Mole di Libri – Mostra mercato e presentazioni letterarie” e Le Mezzelane Casa Editrice\, che parteciperà con sei presentazioni. \nVenerdì 3 settembre 2021 alle ore 16:30 la collana “Molliche”\, che pubblica libri illustrati per bambine e bambini\, verrà presentata al pubblico da Rita Angelelli\,  direttrice editoriale de Le Mezzelane Casa Editrice. \n  \n  \n  \n  \nAlle ore 19:00 Rita Angelelli presenterà il suo ultimo libro\, “Lucrezia”. \nSabato 4 settembre 2021 alle ore 15:30 Viviana Nobilini presenterà il libro “Come una cometa”. \nA seguire Andrea Ansevini\,  che parlerà del suo ultimo libro\, “Dietro la porta”. \n  \n  \n  \nDomenica 5 settembre 2021 alle ore 18:00 sarà la volta della presentazione della collana “Genere plurale”\, che comprende i romanzi e i saggi dedicati al mondo LGBTI. \nA seguire Roberto Ricci\,  che presenterà la sua ultima creatura\, “L’immagine malvagia”.
URL:https://lemezzelane.eu/event/una-mole-di-libri-ad-ascoli-piceno-per-la-prima-edizione-di-non-ci-resta-che-leggere/
CATEGORIES:eventi,fiere e mostre di settore,presentazioni
ATTACH;FMTTYPE=image/jpeg:https://lemezzelane.eu/wp-content/uploads/2021/08/Ascoli-Piceno.jpg
END:VEVENT
BEGIN:VEVENT
DTSTART;TZID=Europe/Amsterdam:20210627T100000
DTEND;TZID=Europe/Amsterdam:20210627T200000
DTSTAMP:20260423T141513
CREATED:20210617T093614Z
LAST-MODIFIED:20210617T093614Z
UID:6235-1624788000-1624824000@lemezzelane.eu
SUMMARY:Un giorno intero per parlare di libri con Le Mezzelane Casa Editrice al Festival del libro di Venarotta
DESCRIPTION:Si svolgerà domenica 27 giugno 2021 dalle ore 10:00 alle ore 20:00 nel borgo di Venarotta (AP) la prima edizione del Festival del libro\, ispirata a Dante e alla Divina Commedia. Ogni area espositiva avrà il nome di una delle Cantiche. Ecco le presentazioni de Le Mezzelane Casa Editrice. \n  \nSettore Inferno \nOre 10:40 “L’immagine malvagia” di Roberto Ricci\, relatrice Rita Angelelli \nOre 15:00 “Aspettando il raggio verde” di Oscar Sartarelli\, relatrice Alessandra Buschi \nOre 17:20 “Lucrezia” di Rita Angelelli\, relatrice Alessandra Piccinini \nOre 19:05 “Le ombre di Green Oak” di Fausto Mancini\, relatore Piko Cordis \nOre 20:15 “Karma Killer” di Alberto Bazzi\, relatrice Rita Angelelli \nSettore Purgatorio \nOre 16:10 “Il portone rosso” di Alessandra Piccinini\, relatrice Rita Angelelli \nOre 16:45 “Ankon” e “Il Signore di Ankon” di Stefano Cardellini\, relatrice Alessandra Buschi \nSettore Paradiso \nOre 15:00 “Quasi Grandi” di Marco Squarcia relatrice Emidia Formica \nOre 15:35 “Il re sporcaccione e altre storie” di Alessandra Buschi\, relatrice Rita Angelelli \nOre 17:55 “Anch’io posso volare” di Rita Angelelli\, relatrice Alessandra Buschi \nIn questo settore ci saranno anche le letture tratte da alcuni libri per l’infanzia pubblicati nella collana “Molliche”.
URL:https://lemezzelane.eu/event/un-giorno-intero-per-parlare-di-libri-con-le-mezzelane-casa-editrice-al-festival-del-libro-di-venarotta/
LOCATION:borgo di Venarotta
CATEGORIES:eventi,fiere e mostre di settore,presentazioni
ATTACH;FMTTYPE=image/png:https://lemezzelane.eu/wp-content/uploads/2021/06/LIBR.png
END:VEVENT
BEGIN:VEVENT
DTSTART;TZID=Europe/Amsterdam:20201030T210000
DTEND;TZID=Europe/Amsterdam:20201129T180000
DTSTAMP:20260423T141513
CREATED:20201029T193343Z
LAST-MODIFIED:20201030T165545Z
UID:6098-1604091600-1606672800@lemezzelane.eu
SUMMARY:Alle Mezzelane ricominciano le dirette streaming. Pronte le date di novembre
DESCRIPTION:In collaborazione con “Una mole di libri-Fiera virtuale della piccola e media editoria” Le Mezzelane Casa Editrice inaugura una nuova serie di dirette streaming. \nLe due date di ottobre introdurranno le dirette \n• venerdì 30 ottobre ore 21:00: Rita Angelelli\n \n• sabato 31 ottobre ore 17:30: Halloween dedicato ai bambini con Cap RM\, Alessandra Buschi e Marcella Manca – special guest Ünver Alibey \n• sabato 31 ottobre ore 21:00: Halloween dedicato ai libri horror con Roberto Ricci\, Fausto Mancini e la blogger Alessandra Micheli di “Les Fleur du mal” \n  \n• domenica 1° novembre ore 18:00: Luca Guerini \n• mercoledì 4 novembre ore 21:00: Gianpiero Pisso ed Elisa Cassinari \n• venerdì 6 novembre ore 21:00: Marinella Giuni con Patrizia Secondi \n• domenica 8 novembre ore 18:00: Adriana Libretti ed Eufemia Griffo \n• mercoledì 11 novembre ore 21:00: Francesca Mereu \n• venerdì 13 novembre ore 21:00: Andrea Ansevini\, Ilaria Romiti e Sara Marino \n• domenica 15 novembre ore 18:00: Eufemia Griffo e Renato Ghezzi \n• mercoledì 18 novembre ore 21:00: Chiara De Giorgi e Francesca Compagno \n• venerdì 20 novembre ore 21:00: Viviana Nobilini e Annamaria Marconicchio \n• domenica 22 novembre ore 18:00: Edoardo Guerrini e Alessandra Buschi \n• mercoledì 25 novembre ore 21:00: Lidia Borghi Sagone e Alessandra Bialetti \n• venerdì 27 novembre ore 21:00: “Black Moon Street” con Chiara De Giorgi\, Sara Marino e Marcella Manca \n• domenica 29 novembre ore 18:00: Valentina Nuccio e Renato Ghezzi
URL:https://lemezzelane.eu/event/alle-mezzelane-ricominciano-le-dirette-streaming-pronte-le-date-di-novembre/
CATEGORIES:dirette social,eventi,interviste,presentazioni,presentazioni in streaming,videoconferenze
ATTACH;FMTTYPE=image/png:https://lemezzelane.eu/wp-content/uploads/2020/10/logo_quadrato_stampa-streaming.png
END:VEVENT
BEGIN:VEVENT
DTSTART;TZID=Europe/Amsterdam:20200826T211500
DTEND;TZID=Europe/Amsterdam:20200826T221500
DTSTAMP:20260423T141513
CREATED:20200824T092118Z
LAST-MODIFIED:20200824T092118Z
UID:5961-1598476500-1598480100@lemezzelane.eu
SUMMARY:Alessandra Buschi e Rita Angelelli presentano la collana “Molliche” de Le Mezzelane Casa Editrice a Serra De’ Conti
DESCRIPTION:Alessandra Buschi compone favole illustrate. Con “Le Mezzelane Casa Editrice” ha pubblicato “Il re sporcaccione e altre storie”\, illustrato da Romina Leoni. Cura la collana “Molliche”\, dedicata all’infanzia dai tre ai nove anni\, in cui sono presenti libri colorati e figurati di facile consultazione e lettura. \n \nRita Angelelli\, direttrice editoriale de “Le Mezzelane Casa Editrice”\, poetessa\, autrice di intensi racconti erotici\, di noir e di avvincenti polizieschi\, per “Molliche” ha pubblicato “Anch’io posso volare”\, una favola illustrata da Leonardo Iacono. \n  \n  \nMercoledì 26 agosto 2020\, alle ore 21:15\, Alessandra Buschi e Rita Angelelli presenteranno la collana “Molliche” presso il Chiostro di San Francesco a Serra De’ Conti (An). \n  \nIn caso di cattivo tempo la presentazione si terrà in Sala Italia. \nSi potrà partecipare solo su appuntamento chiamando il n° 0731871739 (10:30/12:30 e 16:30/19:30) per garantire il distanziamento sociale e rispettare le norme antiassembramento.
URL:https://lemezzelane.eu/event/alessandra-buschi-e-rita-angelelli-presentano-la-collana-molliche-de-le-mezzelane-casa-editrice-a-serra-de-conti/
LOCATION:Chiostro di San Francesco\, via San Francesco\, Serra De’ Conti (An)
CATEGORIES:conferenze,eventi,presentazioni
ATTACH;FMTTYPE=image/jpeg:https://lemezzelane.eu/wp-content/uploads/2020/08/Molliche.jpg
END:VEVENT
BEGIN:VEVENT
DTSTART;TZID=Europe/Amsterdam:20200821T211500
DTEND;TZID=Europe/Amsterdam:20200821T220000
DTSTAMP:20260423T141513
CREATED:20200819T083054Z
LAST-MODIFIED:20200819T083054Z
UID:5956-1598044500-1598047200@lemezzelane.eu
SUMMARY:Alessandra Buschi presenta le sue favole in rima a Serra de’ Conti
DESCRIPTION:Storie per l’infanzia nelle quali anche le persone adulte possono riconoscersi\, rime divertenti da sfogliare insieme a figlie e figli: il libro illustrato “Il re sporcaccione e altre storie”\, scritto da Alessandra Buschi con le illustrazioni di Romina Leoni e pubblicato da “Le Mezzelane Casa Editrice” nella collana “Molliche”\, è molto più di un albetto figurato che narra le storie di quattro personaggi. \nAlessandra Buschi\, grossetana\, marchigiana d’adozione\, il suo lungo curriculum dice di lei che al centro dei suoi laboratori c’è sempre la persona. Editor professionista\, scrittrice feconda\, poetessa\, pittrice\, ha ricevuto molti premi letterari. Da anni svolge l’attività di editor freelance\, oggi anche per “Le Mezzelane Casa Editrice”. \nVenerdì 21 agosto 2020 Alessandra Buschi sarà ospite del chiostro di San Francesco\, in via San Francesco a Serra De’ Conti (An)\, per presentare il suo libro. L’evento avrà inizio alle ore 21:15. Dialogherà con lei Rita Angelelli\, direttrice editoriale de “Le Mezzelane Casa Editrice”. \nSi potrà partecipare solo su appuntamento chiamando il n° 0731871739 (10:30/12:30 e 16:30/19:30) per garantire il distanziamento sociale.
URL:https://lemezzelane.eu/event/alessandra-buschi-presenta-le-sue-favole-in-rima-a-serra-de-conti/
LOCATION:Pro Loco Serra De’ Conti\, via San Francesco\, Serra De’ Conti (An)
CATEGORIES:presentazioni,reading
ATTACH;FMTTYPE=image/jpeg:https://lemezzelane.eu/wp-content/uploads/2020/08/re_sporcaccione_web.jpg
END:VEVENT
BEGIN:VEVENT
DTSTART;TZID=Europe/Amsterdam:20191130T180000
DTEND;TZID=Europe/Amsterdam:20191130T190000
DTSTAMP:20260423T141513
CREATED:20191119T104133Z
LAST-MODIFIED:20191119T104800Z
UID:5345-1575136800-1575140400@lemezzelane.eu
SUMMARY:La seconda tappa di Delitto in casa Le Mezzelane a Civitanova Marche
DESCRIPTION:Delitto in casa Le Mezzelane è un noir umoristico pubblicato da Le Mezzelane Casa Editrice. Scritto da Alessandra Piccinini e Andrea Ansevini\, contiene un enigma difficile da risolvere\, al centro del quale c’è il presunto omicidio di Rita Angelelli\, direttore editoriale della casa editrice. \nDodici fra autrici e autori\, un sostituto procuratore\, due persone che indagano su un probabile delitto senza cadavere e un solo sospettato\, l’occultista Roberto Ricci. E la capo editor della casa editrice che c’entra? La trama del racconto è intricata\, l’occultismo la fa da padrone e il vero protagonista è l’umorismo noir. \nSabato 30 novembre 2019 alle ore 18:00\, nell’ambito del festival letterario Carta Canta\, presso il Lido Cluana\, in viale Giacomo Matteotti 1 a Civitanova Marche (Mc) Alessandra Piccinini e Andrea Ansevini presenteranno Delitto in casa Le Mezzelane e saranno moderati da Rita Angelelli. Letture a cura di Patrizia Giardini e Marcello Moscoloni. \n  \nCon la partecipazione straordinaria di: \nOscar Sartarelli  \nAlessandra Montali \n \nAlessandra Buschi \n \nRoberto Ricci \n \nLuca Guerini \n \nIlaria Romiti \n \nMaria Anna Mastrodonato
URL:https://lemezzelane.eu/event/la-seconda-tappa-di-delitto-in-casa-le-mezzelane-a-civitanova-marche/
LOCATION:Lido Cluana\, viale Giacomo Matteotti 1\, Civitanova Marche (Mc)
CATEGORIES:eventi,presentazioni,reading
ATTACH;FMTTYPE=image/jpeg:https://lemezzelane.eu/wp-content/uploads/2019/11/delitto_mezzelane_ebook.jpg
END:VEVENT
BEGIN:VEVENT
DTSTART;TZID=Europe/Amsterdam:20190629T183000
DTEND;TZID=Europe/Amsterdam:20190629T220000
DTSTAMP:20260423T141513
CREATED:20190622T125011Z
LAST-MODIFIED:20190622T192729Z
UID:4827-1561833000-1561845600@lemezzelane.eu
SUMMARY:Dodici piccoli marchigiani a teatro. La letteratura va in scena a Falconara Marittima
DESCRIPTION:Sono dodici\, sono scrittrici e scrittori e il 29 giugno prossimo alle ore 18:30 saranno i protagonisti di un originale progetto letterario di Rita Angelelli\, direttrice editoriale de Le Mezzelane Casa Editrice\, Dodici Piccoli Marchigiani in Scena. Sul palcoscenico ogni interprete porterà un personaggio del suo libro. In collaborazione con L’Albero delle Idee di Ancona e con Caracas Caffè\, l’evento si svolgerà presso i bagni n° 20 del lungomare di Falconara Marittima (An)\, vicino al sottopassaggio di via Goito. La regia è di Luca Guerini. \nI partecipanti: \nRita Angelelli \n \n  \nLuca Guerini \n \n  \n  \nOscar Sartarelli \n \n  \nAlessandra Montali \n \n  \nAndrea Ansevini \n \n  \nMaria Sabina Coluccia \n \n  \nIlaria Romiti \n \n  \nAntonio Lucarini \n \n  \nRoberto Ricci \n \n  \nMaria Anna Mastrodonato \n \n  \nAlessandra Piccinini \n \n  \nAlessandra Buschi
URL:https://lemezzelane.eu/event/dodici-piccoli-marchigiani-a-teatro-la-letteratura-va-in-scena-a-falconara-marittima/
LOCATION:Bagni n° 20\, sottopassaggio di via Goito\, Falconara Marittima (An)
CATEGORIES:eventi,presentazioni,reading,spettacoli
ATTACH;FMTTYPE=image/jpeg:https://lemezzelane.eu/wp-content/uploads/2019/06/Dodici-Piccoli-Marchigiani.jpg
ORGANIZER;CN="Le Mezzelane Casa Editrice":MAILTO:informazioni@lemezzelane.eu
END:VEVENT
END:VCALENDAR